BEGIN:VCALENDAR
VERSION:2.0
PRODID:-//Death Magnetic - ECPv5.10.1//NONSGML v1.0//EN
CALSCALE:GREGORIAN
METHOD:PUBLISH
X-WR-CALNAME:Death Magnetic
X-ORIGINAL-URL:https://deathmagnetic.pl
X-WR-CALDESC:Events for Death Magnetic
BEGIN:VTIMEZONE
TZID:Europe/Warsaw
BEGIN:DAYLIGHT
TZOFFSETFROM:+0100
TZOFFSETTO:+0200
TZNAME:CEST
DTSTART:20190331T010000
END:DAYLIGHT
BEGIN:STANDARD
TZOFFSETFROM:+0200
TZOFFSETTO:+0100
TZNAME:CET
DTSTART:20191027T010000
END:STANDARD
END:VTIMEZONE
BEGIN:VEVENT
DTSTART;TZID=Europe/Warsaw:20190727T170000
DTEND;TZID=Europe/Warsaw:20190727T233000
DTSTAMP:20260421T074207
CREATED:20190605T125617Z
LAST-MODIFIED:20190605T133643Z
UID:163187-1564246800-1564270200@deathmagnetic.pl
SUMMARY:Męskie Granie 2019 - Gdynia
DESCRIPTION:Sprzedaż biletów rusza już 06.06.2019 o godzinie 12:00.\n\n\nSCENA GŁÓWNA: \nBitamina\nLAO CHE\nMazolewski / Porter\nTribute to Lombard: Kuba Karaś + Goście\nKrzysztof Zalewski\nNOSOWSKA\nMĘSKIE GRANIE ORKIESTRA \nSCENA Ż: \nNietrzask\nArek Kłusowski\nSyny\nTęskno
URL:https://deathmagnetic.pl/wydarzenie/meskie-granie-2019-gdynia/
LOCATION:Park Kolibki\, Gdynia\, Pomorskie\, Polska
CATEGORIES:Festiwale,Polskie
ATTACH;FMTTYPE=image/jpeg:https://deathmagnetic.pl/wp-content/uploads/2019/06/męskiegranie2019_gdynia.jpg
GEO:54.5188898;18.5305409
END:VEVENT
END:VCALENDAR