BEGIN:VCALENDAR
VERSION:2.0
PRODID:-//Death Magnetic - ECPv5.10.1//NONSGML v1.0//EN
CALSCALE:GREGORIAN
METHOD:PUBLISH
X-WR-CALNAME:Death Magnetic
X-ORIGINAL-URL:https://deathmagnetic.pl
X-WR-CALDESC:Events for Death Magnetic
BEGIN:VTIMEZONE
TZID:Europe/Warsaw
BEGIN:DAYLIGHT
TZOFFSETFROM:+0100
TZOFFSETTO:+0200
TZNAME:CEST
DTSTART:20190331T010000
END:DAYLIGHT
BEGIN:STANDARD
TZOFFSETFROM:+0200
TZOFFSETTO:+0100
TZNAME:CET
DTSTART:20191027T010000
END:STANDARD
END:VTIMEZONE
BEGIN:VEVENT
DTSTART;TZID=Europe/Warsaw:20190824T160000
DTEND;TZID=Europe/Warsaw:20190824T233000
DTSTAMP:20260421T074154
CREATED:20190605T133532Z
LAST-MODIFIED:20190605T133532Z
UID:163196-1566662400-1566689400@deathmagnetic.pl
SUMMARY:Męskie Granie 2019 - Finał w Żywcu
DESCRIPTION:Sprzedaż biletów rusza już 06.06.2019 o godzinie 12:00. \nSCENA GŁÓWNA: \nBass Astral x Igo\nSkalpel Big Band\nO.S.T.R.\nMALEŃCZUK + Rhythm Section\nMaleńczuk Waglewski – Koledzy\nMaria Peszek\nØRGANEK\nMĘSKIE GRANIE ORKIESTRA\nORKIESTRA ORKIESTR: Smolik\, Abradab\, Brodka\, Fisz\, Igo\, Lech Janerka\, Maciej Maleńczuk\, Marek Dyjak\, Mela Koteluk\, Nosowska\, Organek\, O.S.T.R.\, Rogucki\, Wojciech Waglewski\, Zalewski \nSCENA Ż: \nŻurkowski\nJan Serce\nMrozu\nMarcelina
URL:https://deathmagnetic.pl/wydarzenie/meskie-granie-2019-final-w-zywcu/
LOCATION:Amfiteatr pod Grojcem\, Grojec 50\, Żywiec\, śląskie\, 34-300\, Polska
CATEGORIES:Festiwale,Polskie
ATTACH;FMTTYPE=image/jpeg:https://deathmagnetic.pl/wp-content/uploads/2019/06/męskiegranie2019_zywiec.jpg
GEO:49.6778464;19.2025026
X-APPLE-STRUCTURED-LOCATION;VALUE=URI;X-ADDRESS=Amfiteatr pod Grojcem Grojec 50 Żywiec śląskie 34-300 Polska;X-APPLE-RADIUS=500;X-TITLE=Grojec 50:geo:19.2025026,49.6778464
END:VEVENT
END:VCALENDAR