BEGIN:VCALENDAR
VERSION:2.0
PRODID:-//Death Magnetic - ECPv5.10.1//NONSGML v1.0//EN
CALSCALE:GREGORIAN
METHOD:PUBLISH
X-WR-CALNAME:Death Magnetic
X-ORIGINAL-URL:https://deathmagnetic.pl
X-WR-CALDESC:Events for Death Magnetic
BEGIN:VTIMEZONE
TZID:Europe/Warsaw
BEGIN:DAYLIGHT
TZOFFSETFROM:+0100
TZOFFSETTO:+0200
TZNAME:CEST
DTSTART:20170326T010000
END:DAYLIGHT
BEGIN:STANDARD
TZOFFSETFROM:+0200
TZOFFSETTO:+0100
TZNAME:CET
DTSTART:20171029T010000
END:STANDARD
END:VTIMEZONE
BEGIN:VEVENT
DTSTART;TZID=Europe/Warsaw:20170826T170000
DTEND;TZID=Europe/Warsaw:20170827T010000
DTSTAMP:20260420T134449
CREATED:20170608T101833Z
LAST-MODIFIED:20170608T101833Z
UID:119057-1503766800-1503795600@deathmagnetic.pl
SUMMARY:Męskie Granie 2017 Żywiec
DESCRIPTION:W Żywcu zagrają: \nSCENA GŁÓWNA:\nBRODKA\nCOMA\nFISZ EMADE TWORZYWO\nGrubSon\nMĘSKIE GRANIE ORKIESTRA\nOBYWATEL GC 2.0. (feat SMOLIK\, MELA KOTELUK\, PIOTR ROGUCKI\, BŁAŻEJ KRÓL\, SKUBAS)\nØRGANEK \nSCENA Ż:\nBOWNIK\nHeart & Soul\nPAWEŁ DOMAGAŁA\nSORRY BOYS \nBilety do kupienia od 24 lipca na eBilet.pl\nhttp://tak.to/MGZywiec
URL:https://deathmagnetic.pl/wydarzenie/meskie-granie-2017-zywiec/
LOCATION:Amfiteatr pod Grojcem\, Grojec 50\, Żywiec\, śląskie\, 34-300\, Polska
CATEGORIES:Festiwale,Polskie
ATTACH;FMTTYPE=image/jpeg:https://deathmagnetic.pl/wp-content/uploads/2017/06/18921916_1764308853585295_6981511726902889341_n.jpg
GEO:49.6778464;19.2025026
X-APPLE-STRUCTURED-LOCATION;VALUE=URI;X-ADDRESS=Amfiteatr pod Grojcem Grojec 50 Żywiec śląskie 34-300 Polska;X-APPLE-RADIUS=500;X-TITLE=Grojec 50:geo:19.2025026,49.6778464
END:VEVENT
END:VCALENDAR