BEGIN:VCALENDAR
VERSION:2.0
PRODID:-//Death Magnetic - ECPv5.10.1//NONSGML v1.0//EN
CALSCALE:GREGORIAN
METHOD:PUBLISH
X-WR-CALNAME:Death Magnetic
X-ORIGINAL-URL:https://deathmagnetic.pl
X-WR-CALDESC:Events for Death Magnetic
BEGIN:VTIMEZONE
TZID:Europe/Warsaw
BEGIN:DAYLIGHT
TZOFFSETFROM:+0100
TZOFFSETTO:+0200
TZNAME:CEST
DTSTART:20180325T010000
END:DAYLIGHT
BEGIN:STANDARD
TZOFFSETFROM:+0200
TZOFFSETTO:+0100
TZNAME:CET
DTSTART:20181028T010000
END:STANDARD
END:VTIMEZONE
BEGIN:VEVENT
DTSTART;TZID=Europe/Warsaw:20180317T190000
DTEND;TZID=Europe/Warsaw:20180317T230000
DTSTAMP:20260420T081600
CREATED:20180226T185826Z
LAST-MODIFIED:20180226T185850Z
UID:155485-1521313200-1521327600@deathmagnetic.pl
SUMMARY:Mentally Blind + Fleshcold + Netherless
DESCRIPTION:BILETY:\n15zł/25zł – przedsprzedaż/w dniu koncertu. \nBilety w przedsprzedaży nabyć można w klubie oraz kontaktując się poprzez prywatną wiadomość z zespołem Mentally Blind za pośrednictwem Facebooka. \n 
URL:https://deathmagnetic.pl/wydarzenie/mentally-blind-fleshcold-netherless-2/
LOCATION:Motor Rock Pub\, ul. Anny Łajming 3\, Słupsk\, 76-200\, Polska
CATEGORIES:Koncerty,Polskie
ATTACH;FMTTYPE=image/jpeg:https://deathmagnetic.pl/wp-content/uploads/2018/02/MB-Underground-Tour-poster_preview.jpeg
END:VEVENT
END:VCALENDAR