BEGIN:VCALENDAR
VERSION:2.0
PRODID:-//Death Magnetic - ECPv5.10.1//NONSGML v1.0//EN
CALSCALE:GREGORIAN
METHOD:PUBLISH
X-WR-CALNAME:Death Magnetic
X-ORIGINAL-URL:https://deathmagnetic.pl
X-WR-CALDESC:Events for Death Magnetic
BEGIN:VTIMEZONE
TZID:Europe/Warsaw
BEGIN:DAYLIGHT
TZOFFSETFROM:+0100
TZOFFSETTO:+0200
TZNAME:CEST
DTSTART:20170326T010000
END:DAYLIGHT
BEGIN:STANDARD
TZOFFSETFROM:+0200
TZOFFSETTO:+0100
TZNAME:CET
DTSTART:20171029T010000
END:STANDARD
END:VTIMEZONE
BEGIN:VEVENT
DTSTART;TZID=Europe/Warsaw:20170923T190000
DTEND;TZID=Europe/Warsaw:20170923T230000
DTSTAMP:20260420T100822
CREATED:20170511T161310Z
LAST-MODIFIED:20170511T163710Z
UID:117614-1506193200-1506207600@deathmagnetic.pl
SUMMARY:Me And That Man + Sasha Boole + Fertile Hump
DESCRIPTION:Bilety:\n65 zł (http://pwevents.pl/bilety/me-and-that-man-fabryka-porcelany-katowice/503/84)\n75 zł (Biletomat\, Ebilet\, Eventim\, Ticketpro\, sklep muzyczny All)\n85 zł (w dniu koncertu)
URL:https://deathmagnetic.pl/wydarzenie/me-and-that-man/
LOCATION:Fabryka Porcelany\, Porcelanowa 23\, Katowice\, Polska
CATEGORIES:Koncerty,Polskie
ATTACH;FMTTYPE=image/jpeg:https://deathmagnetic.pl/wp-content/uploads/2017/05/me_and_that_man_polska_trasa.jpg
ORGANIZER;CN="P.W.%20Events":MAILTO:piotr@pwevents.pl
GEO:50.2546165;19.0612089
X-APPLE-STRUCTURED-LOCATION;VALUE=URI;X-ADDRESS=Fabryka Porcelany Porcelanowa 23 Katowice Polska;X-APPLE-RADIUS=500;X-TITLE=Porcelanowa 23:geo:19.0612089,50.2546165
END:VEVENT
END:VCALENDAR