BEGIN:VCALENDAR
VERSION:2.0
PRODID:-//Death Magnetic - ECPv5.10.1//NONSGML v1.0//EN
CALSCALE:GREGORIAN
METHOD:PUBLISH
X-WR-CALNAME:Death Magnetic
X-ORIGINAL-URL:https://deathmagnetic.pl
X-WR-CALDESC:Events for Death Magnetic
BEGIN:VTIMEZONE
TZID:Europe/Warsaw
BEGIN:DAYLIGHT
TZOFFSETFROM:+0100
TZOFFSETTO:+0200
TZNAME:CEST
DTSTART:20170326T010000
END:DAYLIGHT
BEGIN:STANDARD
TZOFFSETFROM:+0200
TZOFFSETTO:+0100
TZNAME:CET
DTSTART:20171029T010000
END:STANDARD
END:VTIMEZONE
BEGIN:VEVENT
DTSTART;TZID=Europe/Warsaw:20171004T190000
DTEND;TZID=Europe/Warsaw:20171004T230000
DTSTAMP:20260419T233417
CREATED:20170511T163244Z
LAST-MODIFIED:20170511T163244Z
UID:117623-1507143600-1507158000@deathmagnetic.pl
SUMMARY:Me And That Man + Sasha Boole + Fertile Hump
DESCRIPTION:Bilety w cenie 65 zł do nabycia od pn. – pt. w godz. 13.00 – 17.00 w Klubokawiarnia Aquarium
URL:https://deathmagnetic.pl/wydarzenie/me-and-that-man-sasha-boole-fertile-hump/
LOCATION:Galeria Bielska BWA\, Bielsko-Biała\, 3 maja 11\, Polska
CATEGORIES:Koncerty,Polskie
ATTACH;FMTTYPE=image/jpeg:https://deathmagnetic.pl/wp-content/uploads/2017/05/me_and_that_man_polska_trasa.jpg
GEO:49.8238656;19.0446458
END:VEVENT
END:VCALENDAR