BEGIN:VCALENDAR
VERSION:2.0
PRODID:-//Death Magnetic - ECPv5.10.1//NONSGML v1.0//EN
CALSCALE:GREGORIAN
METHOD:PUBLISH
X-WR-CALNAME:Death Magnetic
X-ORIGINAL-URL:https://deathmagnetic.pl
X-WR-CALDESC:Events for Death Magnetic
BEGIN:VTIMEZONE
TZID:Europe/Warsaw
BEGIN:DAYLIGHT
TZOFFSETFROM:+0100
TZOFFSETTO:+0200
TZNAME:CEST
DTSTART:20170326T010000
END:DAYLIGHT
BEGIN:STANDARD
TZOFFSETFROM:+0200
TZOFFSETTO:+0100
TZNAME:CET
DTSTART:20171029T010000
END:STANDARD
END:VTIMEZONE
BEGIN:VEVENT
DTSTART;TZID=Europe/Warsaw:20171007T190000
DTEND;TZID=Europe/Warsaw:20171007T233000
DTSTAMP:20260420T224029
CREATED:20170511T113416Z
LAST-MODIFIED:20170511T113913Z
UID:117604-1507402800-1507419000@deathmagnetic.pl
SUMMARY:Me And That Man + Fertile Hump+ Sasha Boole
DESCRIPTION:Organizator: Wytwórnia \nBilety: 65 zł z Kartą Wytwórni\, 70 zł bez Karty \nHarmonogram koncertu:\n19:00 Sasha Boole\n19:40 Fertile Hump\n20:30 Me And That Man
URL:https://deathmagnetic.pl/wydarzenie/me-and-that-man-fertile-hump-sasha-boole/
LOCATION:Wytwórnia\, Łąkowa 29\, Łódź
CATEGORIES:Koncerty,Polskie
ATTACH;FMTTYPE=image/jpeg:https://deathmagnetic.pl/wp-content/uploads/2017/05/me_and_that_man_polska_trasa.jpg
GEO:51.757883;19.443701
X-APPLE-STRUCTURED-LOCATION;VALUE=URI;X-ADDRESS=Wytwórnia Łąkowa 29 Łódź;X-APPLE-RADIUS=500;X-TITLE=Łąkowa 29:geo:19.443701,51.757883
END:VEVENT
END:VCALENDAR