BEGIN:VCALENDAR
VERSION:2.0
PRODID:-//Death Magnetic - ECPv5.10.1//NONSGML v1.0//EN
CALSCALE:GREGORIAN
METHOD:PUBLISH
X-WR-CALNAME:Death Magnetic
X-ORIGINAL-URL:https://deathmagnetic.pl
X-WR-CALDESC:Events for Death Magnetic
BEGIN:VTIMEZONE
TZID:Europe/Warsaw
BEGIN:DAYLIGHT
TZOFFSETFROM:+0100
TZOFFSETTO:+0200
TZNAME:CEST
DTSTART:20170326T010000
END:DAYLIGHT
BEGIN:STANDARD
TZOFFSETFROM:+0200
TZOFFSETTO:+0100
TZNAME:CET
DTSTART:20171029T010000
END:STANDARD
END:VTIMEZONE
BEGIN:VEVENT
DTSTART;TZID=Europe/Warsaw:20171005T190000
DTEND;TZID=Europe/Warsaw:20171005T230000
DTSTAMP:20260419T180337
CREATED:20170511T164303Z
LAST-MODIFIED:20170511T164303Z
UID:117627-1507230000-1507244400@deathmagnetic.pl
SUMMARY:Me And That Man + Fertile Hump + Sasha Boole
DESCRIPTION:Wystąpią: Me And That Man + goście:  Fertile Hump oraz Sasha Boole. \nBilety:\n65 zł – do nabycia w kasie teatru oraz na www.teatrvariete.pl/repertuar
URL:https://deathmagnetic.pl/wydarzenie/me-and-that-man-fertile-hump-sasha-boole-7/
LOCATION:Krakowski Teatr VARIETE\, Grzegórzecka 71\, Kraków\, 31-559 \, Polska
CATEGORIES:Koncerty,Polskie
ATTACH;FMTTYPE=image/jpeg:https://deathmagnetic.pl/wp-content/uploads/2017/05/me_and_that_man_polska_trasa.jpg
GEO:50.0568472;19.9636254
X-APPLE-STRUCTURED-LOCATION;VALUE=URI;X-ADDRESS=Krakowski Teatr VARIETE Grzegórzecka 71 Kraków 31-559  Polska;X-APPLE-RADIUS=500;X-TITLE=Grzegórzecka 71:geo:19.9636254,50.0568472
END:VEVENT
END:VCALENDAR