BEGIN:VCALENDAR
VERSION:2.0
PRODID:-//Death Magnetic - ECPv5.10.1//NONSGML v1.0//EN
CALSCALE:GREGORIAN
METHOD:PUBLISH
X-WR-CALNAME:Death Magnetic
X-ORIGINAL-URL:https://deathmagnetic.pl
X-WR-CALDESC:Events for Death Magnetic
BEGIN:VTIMEZONE
TZID:Europe/Warsaw
BEGIN:DAYLIGHT
TZOFFSETFROM:+0100
TZOFFSETTO:+0200
TZNAME:CEST
DTSTART:20170326T010000
END:DAYLIGHT
BEGIN:STANDARD
TZOFFSETFROM:+0200
TZOFFSETTO:+0100
TZNAME:CET
DTSTART:20171029T010000
END:STANDARD
END:VTIMEZONE
BEGIN:VEVENT
DTSTART;TZID=Europe/Warsaw:20170930T190000
DTEND;TZID=Europe/Warsaw:20170930T230000
DTSTAMP:20260419T174030
CREATED:20170511T162429Z
LAST-MODIFIED:20170511T162429Z
UID:117619-1506798000-1506812400@deathmagnetic.pl
SUMMARY:Me And That Man
DESCRIPTION:Bilety w cenie 60 zł dostępne TU.
URL:https://deathmagnetic.pl/wydarzenie/me-and-that-man-4/
LOCATION:Teatr Szekspirowski\, Gdańsk\, pomorskie\, Polska
CATEGORIES:Koncerty,Polskie
ATTACH;FMTTYPE=image/jpeg:https://deathmagnetic.pl/wp-content/uploads/2017/05/me_and_that_man_polska_trasa.jpg
GEO:54.3520252;18.6466384
END:VEVENT
END:VCALENDAR