BEGIN:VCALENDAR
VERSION:2.0
PRODID:-//Death Magnetic - ECPv5.10.1//NONSGML v1.0//EN
CALSCALE:GREGORIAN
METHOD:PUBLISH
X-WR-CALNAME:Death Magnetic
X-ORIGINAL-URL:https://deathmagnetic.pl
X-WR-CALDESC:Events for Death Magnetic
BEGIN:VTIMEZONE
TZID:Europe/Warsaw
BEGIN:DAYLIGHT
TZOFFSETFROM:+0100
TZOFFSETTO:+0200
TZNAME:CEST
DTSTART:20170326T010000
END:DAYLIGHT
BEGIN:STANDARD
TZOFFSETFROM:+0200
TZOFFSETTO:+0100
TZNAME:CET
DTSTART:20171029T010000
END:STANDARD
END:VTIMEZONE
BEGIN:VEVENT
DTSTART;TZID=Europe/Warsaw:20171021T180000
DTEND;TZID=Europe/Warsaw:20171021T230000
DTSTAMP:20260421T073824
CREATED:20170627T163607Z
LAST-MODIFIED:20170724T183518Z
UID:119749-1508608800-1508626800@deathmagnetic.pl
SUMMARY:Mayhem + Asphyx + Dragged Into Sunlight + Centurion + Thunderwar
DESCRIPTION:Bilety: 95 zł – przedsprzedaż\, 110 zł – w dniu koncertu \nBilety na koncerty dostępne na www.knockoutprod.net/sklep (druki kolekcjonerskie)
URL:https://deathmagnetic.pl/wydarzenie/mayhem-asphyx/
LOCATION:Progresja\, Fort Wola 22\, Warszawa\, Polska
CATEGORIES:Koncerty,zagraniczne
ATTACH;FMTTYPE=image/jpeg:https://deathmagnetic.pl/wp-content/uploads/2017/06/19452857_1455806597775436_6587190260990424129_o.jpg
ORGANIZER;CN="KnockOut%20Productions":MAILTO:info@knockoutprod.net
GEO:52.224827;20.9287
X-APPLE-STRUCTURED-LOCATION;VALUE=URI;X-ADDRESS=Progresja Fort Wola 22 Warszawa Polska;X-APPLE-RADIUS=500;X-TITLE=Fort Wola 22:geo:20.9287,52.224827
END:VEVENT
END:VCALENDAR