BEGIN:VCALENDAR
VERSION:2.0
PRODID:-//Death Magnetic - ECPv5.10.1//NONSGML v1.0//EN
CALSCALE:GREGORIAN
METHOD:PUBLISH
X-WR-CALNAME:Death Magnetic
X-ORIGINAL-URL:https://deathmagnetic.pl
X-WR-CALDESC:Events for Death Magnetic
BEGIN:VTIMEZONE
TZID:Europe/Warsaw
BEGIN:DAYLIGHT
TZOFFSETFROM:+0100
TZOFFSETTO:+0200
TZNAME:CEST
DTSTART:20160327T010000
END:DAYLIGHT
BEGIN:STANDARD
TZOFFSETFROM:+0200
TZOFFSETTO:+0100
TZNAME:CET
DTSTART:20161030T010000
END:STANDARD
END:VTIMEZONE
BEGIN:VEVENT
DTSTART;TZID=Europe/Warsaw:20160116T190000
DTEND;TZID=Europe/Warsaw:20160116T230000
DTSTAMP:20260421T025553
CREATED:20150219T191940Z
LAST-MODIFIED:20150909T153421Z
UID:73193-1452970800-1452985200@deathmagnetic.pl
SUMMARY:Manowar
DESCRIPTION:Ceny biletów: \nPłyta – 189\,00 PLN\nGolden Circle – 285\,00 PLN\nTrybuny – 195\, 00 PLN \nBilety dostępne na: \nPrestige MJM\, Eventim\, eBilet\, a także w salonach EMPIK na terenie całego kraju.
URL:https://deathmagnetic.pl/wydarzenie/manowar/
LOCATION:Torwar\, ul. Łazienkowska 6a\, Warszawa
CATEGORIES:Koncerty,zagraniczne
ATTACH;FMTTYPE=image/jpeg:https://deathmagnetic.pl/wp-content/uploads/2015/02/manowar.jpg
ORGANIZER;CN="Prestige%20MJM":MAILTO:biuro@imprezyprestige.com
GEO:52.2223535;21.0406963
X-APPLE-STRUCTURED-LOCATION;VALUE=URI;X-ADDRESS=Torwar ul. Łazienkowska 6a Warszawa;X-APPLE-RADIUS=500;X-TITLE=ul. Łazienkowska 6a:geo:21.0406963,52.2223535
END:VEVENT
END:VCALENDAR