BEGIN:VCALENDAR
VERSION:2.0
PRODID:-//Death Magnetic - ECPv5.10.1//NONSGML v1.0//EN
CALSCALE:GREGORIAN
METHOD:PUBLISH
X-WR-CALNAME:Death Magnetic
X-ORIGINAL-URL:https://deathmagnetic.pl
X-WR-CALDESC:Events for Death Magnetic
BEGIN:VTIMEZONE
TZID:Europe/Warsaw
BEGIN:DAYLIGHT
TZOFFSETFROM:+0100
TZOFFSETTO:+0200
TZNAME:CEST
DTSTART:20150329T010000
END:DAYLIGHT
BEGIN:STANDARD
TZOFFSETFROM:+0200
TZOFFSETTO:+0100
TZNAME:CET
DTSTART:20151025T010000
END:STANDARD
END:VTIMEZONE
BEGIN:VEVENT
DTSTART;VALUE=DATE:20151015
DTEND;VALUE=DATE:20151016
DTSTAMP:20260420T120637
CREATED:20151001T084723Z
LAST-MODIFIED:20151001T084723Z
UID:92768-1444867200-1444953599@deathmagnetic.pl
SUMMARY:Maleńczuk - Jazz for Idiots
DESCRIPTION:Wstęp od 18:30 \nCena biletu: 60 zł \nMiejsca sprzedaży: bileteria Palladium\, ul. Złota 9\, bileterie Empik\, sieć sklepów Media Markt i Saturn \nSprzedaż online: palladium.art.pl\, ebilet.pl\, eventim.pl\, ticketpro.pl
URL:https://deathmagnetic.pl/wydarzenie/malenczuk-jazz-for-idiots/
LOCATION:Hybrydy\, Złota 7/9\, Warszawa\, mazowieckie\, Polska
CATEGORIES:Koncerty,Polskie
ATTACH;FMTTYPE=image/jpeg:https://deathmagnetic.pl/wp-content/uploads/2015/10/malenczukmmm.jpg
GEO:52.2327124;21.0116966
X-APPLE-STRUCTURED-LOCATION;VALUE=URI;X-ADDRESS=Hybrydy Złota 7/9 Warszawa mazowieckie Polska;X-APPLE-RADIUS=500;X-TITLE=Złota 7/9:geo:21.0116966,52.2327124
END:VEVENT
END:VCALENDAR