BEGIN:VCALENDAR
VERSION:2.0
PRODID:-//Death Magnetic - ECPv5.10.1//NONSGML v1.0//EN
CALSCALE:GREGORIAN
METHOD:PUBLISH
X-WR-CALNAME:Death Magnetic
X-ORIGINAL-URL:https://deathmagnetic.pl
X-WR-CALDESC:Events for Death Magnetic
BEGIN:VTIMEZONE
TZID:Europe/Warsaw
BEGIN:DAYLIGHT
TZOFFSETFROM:+0100
TZOFFSETTO:+0200
TZNAME:CEST
DTSTART:20150329T010000
END:DAYLIGHT
BEGIN:STANDARD
TZOFFSETFROM:+0200
TZOFFSETTO:+0100
TZNAME:CET
DTSTART:20151025T010000
END:STANDARD
END:VTIMEZONE
BEGIN:VEVENT
DTSTART;TZID=Europe/Warsaw:20151122T180000
DTEND;TZID=Europe/Warsaw:20151122T235500
DTSTAMP:20260421T125851
CREATED:20151103T014630Z
LAST-MODIFIED:20151103T014652Z
UID:93983-1448215200-1448236500@deathmagnetic.pl
SUMMARY:Malchus + Hegemony + As Night Falls
DESCRIPTION:Malchus istnieje nieprzerwanie od 11 lat na polskiej scenie. Muzyka zespołu to dźwiękowa podróż po zakamarkach sfrustrowanej duszy młodego Polaka. Nie można jej zaszufladkować do konkretnego podgatunku ciężkich brzmień. \nOd początku swojego istnienia Malchus wydał 4 albumy w tym dwa za granicą. Dzięki nawiązaniu współpracy z australijskim wydawcą\, płyty zespołu dostępne były nie tylko w Polsce\, ale również w większych krajach europejskich\, USA i Japonii. \nOd roku 2014 zespół promuje „Dom Zły”\, album bardzo ciepło przyjęty przez słuchaczy i recenzentów. Najnowsze utwory można było usłyszeć m.in. w Trzecim Programie Polskiego Radia\, Radiu Rzeszów i wielu innych rozgłośniach radiowych. \nSezon festiwalowy w 2015 roku był dla Malchusa bardzo urozmaicony\, zagrali m.in. w Szwajcarii na międzynarodowym festiwalu Elements of Rock\, na SLOT w Warszawie oraz na „Festiwalu Solidarności Uwolnić Muzykę” w Środzie Śląskiej. \nHegemony to zespół prezentujący muzykę łączącą cechy rocka i metalu z szerokim wpływem muzyki progresywnej i gotyckiej\, a także klasycznej i orientalnej. Zespół powstał w Żorach na Górnym Śląsku pod koniec czerwca 2012 r. z inicjatywy Wojtka Muchowicza. \nAs Night Falls tworzy muzykę zainspirowaną wielkimi tego gatunku\, ale z własną\, niepowtarzalną sygnaturą. Znakami rozpoznawalnymi stylu ANF jest metalowa sekcja oraz gitary\, zmieszane z symfonicznymi partiami klawiszy i sopranowym głosem Ani Achtelik.
URL:https://deathmagnetic.pl/wydarzenie/malchus-hegemony-as-night-falls/
LOCATION:Leśniczówka\, Aleja Muzyków 1\, Chorzów\, Polska
CATEGORIES:Koncerty,Polskie
ATTACH;FMTTYPE=image/jpeg:https://deathmagnetic.pl/wp-content/uploads/2015/11/Malchus_Hegemony_As-Night-Falls.jpg
GEO:50.2933907;18.9849251
X-APPLE-STRUCTURED-LOCATION;VALUE=URI;X-ADDRESS=Leśniczówka Aleja Muzyków 1 Chorzów Polska;X-APPLE-RADIUS=500;X-TITLE=Aleja Muzyków 1:geo:18.9849251,50.2933907
END:VEVENT
END:VCALENDAR