BEGIN:VCALENDAR
VERSION:2.0
PRODID:-//Death Magnetic - ECPv5.10.1//NONSGML v1.0//EN
CALSCALE:GREGORIAN
METHOD:PUBLISH
X-WR-CALNAME:Death Magnetic
X-ORIGINAL-URL:https://deathmagnetic.pl
X-WR-CALDESC:Events for Death Magnetic
BEGIN:VTIMEZONE
TZID:Europe/Warsaw
BEGIN:DAYLIGHT
TZOFFSETFROM:+0100
TZOFFSETTO:+0200
TZNAME:CEST
DTSTART:20170326T010000
END:DAYLIGHT
BEGIN:STANDARD
TZOFFSETFROM:+0200
TZOFFSETTO:+0100
TZNAME:CET
DTSTART:20171029T010000
END:STANDARD
END:VTIMEZONE
BEGIN:VEVENT
DTSTART;TZID=Europe/Warsaw:20171110T190000
DTEND;TZID=Europe/Warsaw:20171110T230000
DTSTAMP:20260420T103247
CREATED:20171026T122421Z
LAST-MODIFIED:20171026T122421Z
UID:151600-1510340400-1510354800@deathmagnetic.pl
SUMMARY:Luxtorpeda + Penerra + Bright Ophidia
DESCRIPTION:TIMETABLE:\n19:00 – otwacie drzwi\n20:00 – start koncertu \nSupport: Penerra\, Bright Ophidia \nBilety:\nPrzedsprzedaż – 42 PLN (stojące)\, 62 PLN (balkon)\nOd 27 października – 49 PLN (stojące)\, 69 PLN (balkony) \ndo kupienia w kasie Klubu Stodoła (Warszawa ul. Batorego 10)\nSprzedaż internetowa: Stodola.pl\, eBilet.pl\, biletyna.pl\, biletomat.pl\, Eventim.pl\, TicketPro.pl
URL:https://deathmagnetic.pl/wydarzenie/luxtorpeda-penerra-bright-ophidia/
LOCATION:Stodoła\, Batorego 10\, Warszawa\, mazowieckie\, Polska
CATEGORIES:Koncerty,Polskie
ATTACH;FMTTYPE=image/jpeg:https://deathmagnetic.pl/wp-content/uploads/2017/10/luxtorpedatrasa.jpg
GEO:52.2116;21.0101859
X-APPLE-STRUCTURED-LOCATION;VALUE=URI;X-ADDRESS=Stodoła Batorego 10 Warszawa mazowieckie Polska;X-APPLE-RADIUS=500;X-TITLE=Batorego 10:geo:21.0101859,52.2116
END:VEVENT
END:VCALENDAR