BEGIN:VCALENDAR
VERSION:2.0
PRODID:-//Death Magnetic - ECPv5.10.1//NONSGML v1.0//EN
CALSCALE:GREGORIAN
METHOD:PUBLISH
X-WR-CALNAME:Death Magnetic
X-ORIGINAL-URL:https://deathmagnetic.pl
X-WR-CALDESC:Events for Death Magnetic
BEGIN:VTIMEZONE
TZID:Europe/Warsaw
BEGIN:DAYLIGHT
TZOFFSETFROM:+0100
TZOFFSETTO:+0200
TZNAME:CEST
DTSTART:20150329T010000
END:DAYLIGHT
BEGIN:STANDARD
TZOFFSETFROM:+0200
TZOFFSETTO:+0100
TZNAME:CET
DTSTART:20151025T010000
END:STANDARD
END:VTIMEZONE
BEGIN:VEVENT
DTSTART;VALUE=DATE:20151127
DTEND;VALUE=DATE:20151128
DTSTAMP:20260421T130206
CREATED:20151001T092045Z
LAST-MODIFIED:20151001T092045Z
UID:92781-1448582400-1448668799@deathmagnetic.pl
SUMMARY:Luxtorpeda
DESCRIPTION:Bilety:\nDo 5 listopada – 40 pln (stojące)\, 60 pln (balkony)\nOd 6 listopada – 47 pln (stojące)\, 67 pln (balkony) \ndo kupienia w kasie klubu Stodoła (Warszawa\, ul. Batorego 10). \nSprzedaż internetowa: www.stodola.pl\, www.ebilet.pl\, www.eventim.pl\, www.ticketpro.pl
URL:https://deathmagnetic.pl/wydarzenie/luxtorpeda-7/
LOCATION:Stodoła\, Batorego 10\, Warszawa\, mazowieckie\, Polska
CATEGORIES:Koncerty,Polskie
ATTACH;FMTTYPE=image/jpeg:https://deathmagnetic.pl/wp-content/uploads/2015/10/11217656_10152880906816883_7535653852558388081_n.jpg
GEO:52.2116;21.0101859
X-APPLE-STRUCTURED-LOCATION;VALUE=URI;X-ADDRESS=Stodoła Batorego 10 Warszawa mazowieckie Polska;X-APPLE-RADIUS=500;X-TITLE=Batorego 10:geo:21.0101859,52.2116
END:VEVENT
END:VCALENDAR