BEGIN:VCALENDAR
VERSION:2.0
PRODID:-//Death Magnetic - ECPv5.10.1//NONSGML v1.0//EN
CALSCALE:GREGORIAN
METHOD:PUBLISH
X-WR-CALNAME:Death Magnetic
X-ORIGINAL-URL:https://deathmagnetic.pl
X-WR-CALDESC:Events for Death Magnetic
BEGIN:VTIMEZONE
TZID:Europe/Warsaw
BEGIN:DAYLIGHT
TZOFFSETFROM:+0100
TZOFFSETTO:+0200
TZNAME:CEST
DTSTART:20160327T010000
END:DAYLIGHT
BEGIN:STANDARD
TZOFFSETFROM:+0200
TZOFFSETTO:+0100
TZNAME:CET
DTSTART:20161030T010000
END:STANDARD
END:VTIMEZONE
BEGIN:VEVENT
DTSTART;TZID=Europe/Warsaw:20160123T180000
DTEND;TZID=Europe/Warsaw:20160123T230000
DTSTAMP:20260421T074014
CREATED:20151001T164252Z
LAST-MODIFIED:20160114T091531Z
UID:92875-1453572000-1453590000@deathmagnetic.pl
SUMMARY:Luca Turilli’s Rhapsody
DESCRIPTION:  \nCeny biletów: \n79 zł (na stronie PW Events)\n89 zł (przedsprzedaż)\n99 zł (w dniu koncertu) \nWięcej szczegółów wkrótce. \n 
URL:https://deathmagnetic.pl/wydarzenie/luca-turillis-rhapsody-2/
LOCATION:Alibi Club\, ul. Grunwaldzka 67\, Wrocław\, Polska
CATEGORIES:Koncerty,zagraniczne
ATTACH;FMTTYPE=image/jpeg:https://deathmagnetic.pl/wp-content/uploads/2015/10/Wroclaw.jpg
ORGANIZER;CN="P.W.%20Events":MAILTO:piotr@pwevents.pl
GEO:51.1145141;17.0665483
X-APPLE-STRUCTURED-LOCATION;VALUE=URI;X-ADDRESS=Alibi Club ul. Grunwaldzka 67 Wrocław Polska;X-APPLE-RADIUS=500;X-TITLE=ul. Grunwaldzka 67:geo:17.0665483,51.1145141
END:VEVENT
END:VCALENDAR