BEGIN:VCALENDAR
VERSION:2.0
PRODID:-//Death Magnetic - ECPv5.10.1//NONSGML v1.0//EN
CALSCALE:GREGORIAN
METHOD:PUBLISH
X-WR-CALNAME:Death Magnetic
X-ORIGINAL-URL:https://deathmagnetic.pl
X-WR-CALDESC:Events for Death Magnetic
BEGIN:VTIMEZONE
TZID:Europe/Warsaw
BEGIN:DAYLIGHT
TZOFFSETFROM:+0100
TZOFFSETTO:+0200
TZNAME:CEST
DTSTART:20160327T010000
END:DAYLIGHT
BEGIN:STANDARD
TZOFFSETFROM:+0200
TZOFFSETTO:+0100
TZNAME:CET
DTSTART:20161030T010000
END:STANDARD
END:VTIMEZONE
BEGIN:VEVENT
DTSTART;TZID=Europe/Warsaw:20161029T200000
DTEND;TZID=Europe/Warsaw:20161029T230000
DTSTAMP:20260421T110726
CREATED:20161020T222748Z
LAST-MODIFIED:20161020T222748Z
UID:106690-1477771200-1477782000@deathmagnetic.pl
SUMMARY:LIVE: Pravia + Warband
DESCRIPTION:
URL:https://deathmagnetic.pl/wydarzenie/live-pravia-warband/
LOCATION:Cafe Rock’n’Roll\, Mokotowska 4/6\, Warszawa \, mazowieckie\, Polska
CATEGORIES:Koncerty,patronaty,Polskie
ATTACH;FMTTYPE=image/jpeg:https://deathmagnetic.pl/wp-content/uploads/2016/10/pravia.jpg
GEO:52.218077;21.0170195
X-APPLE-STRUCTURED-LOCATION;VALUE=URI;X-ADDRESS=Cafe Rock’n’Roll Mokotowska 4/6 Warszawa  mazowieckie Polska;X-APPLE-RADIUS=500;X-TITLE=Mokotowska 4/6:geo:21.0170195,52.218077
END:VEVENT
END:VCALENDAR