BEGIN:VCALENDAR
VERSION:2.0
PRODID:-//Death Magnetic - ECPv5.10.1//NONSGML v1.0//EN
CALSCALE:GREGORIAN
METHOD:PUBLISH
X-WR-CALNAME:Death Magnetic
X-ORIGINAL-URL:https://deathmagnetic.pl
X-WR-CALDESC:Events for Death Magnetic
BEGIN:VTIMEZONE
TZID:Europe/Warsaw
BEGIN:DAYLIGHT
TZOFFSETFROM:+0100
TZOFFSETTO:+0200
TZNAME:CEST
DTSTART:20160327T010000
END:DAYLIGHT
BEGIN:STANDARD
TZOFFSETFROM:+0200
TZOFFSETTO:+0100
TZNAME:CET
DTSTART:20161030T010000
END:STANDARD
END:VTIMEZONE
BEGIN:VEVENT
DTSTART;TZID=Europe/Warsaw:20160721T190000
DTEND;TZID=Europe/Warsaw:20160721T230000
DTSTAMP:20260421T074029
CREATED:20160519T172644Z
LAST-MODIFIED:20160519T172644Z
UID:100889-1469127600-1469142000@deathmagnetic.pl
SUMMARY:Lionheart + Dintojra
DESCRIPTION:Bilety:\n39zł – www.winiarybookings.8merch.com\n49zł – w dniu koncertu
URL:https://deathmagnetic.pl/wydarzenie/lionheart-dintojra/
LOCATION:Klub Muzyczny Liverpool\, Świdnicka 37\, Wrocław\, Polska
CATEGORIES:Koncerty,zagraniczne
ATTACH;FMTTYPE=image/jpeg:https://deathmagnetic.pl/wp-content/uploads/2016/05/lionheart-wroclaw.jpg
ORGANIZER;CN="WiniaryBookings":MAILTO:winiarybooking@gmail.com
GEO:51.104006;17.030348
X-APPLE-STRUCTURED-LOCATION;VALUE=URI;X-ADDRESS=Klub Muzyczny Liverpool Świdnicka 37 Wrocław Polska;X-APPLE-RADIUS=500;X-TITLE=Świdnicka 37:geo:17.030348,51.104006
END:VEVENT
END:VCALENDAR