BEGIN:VCALENDAR
VERSION:2.0
PRODID:-//Death Magnetic - ECPv5.10.1//NONSGML v1.0//EN
CALSCALE:GREGORIAN
METHOD:PUBLISH
X-WR-CALNAME:Death Magnetic
X-ORIGINAL-URL:https://deathmagnetic.pl
X-WR-CALDESC:Events for Death Magnetic
BEGIN:VTIMEZONE
TZID:Europe/Warsaw
BEGIN:DAYLIGHT
TZOFFSETFROM:+0100
TZOFFSETTO:+0200
TZNAME:CEST
DTSTART:20200329T010000
END:DAYLIGHT
BEGIN:STANDARD
TZOFFSETFROM:+0200
TZOFFSETTO:+0100
TZNAME:CET
DTSTART:20201025T010000
END:STANDARD
END:VTIMEZONE
BEGIN:VEVENT
DTSTART;TZID=Europe/Warsaw:20200220T183000
DTEND;TZID=Europe/Warsaw:20200220T230000
DTSTAMP:20260420T100940
CREATED:20200206T123648Z
LAST-MODIFIED:20200206T123648Z
UID:164845-1582223400-1582239600@deathmagnetic.pl
SUMMARY:Leprous + Klone + Maraton
DESCRIPTION:Kiedy: 20 lutego (czwartek) 2020\nGdzie: Kraków @ Kwadrat\, ul. Skarżyńskiego 1\nBilety: 90 zł – przedsprzedaż\, 100 zł – w dniu koncertu\nOrganizator: Knock Out Productions \nBilety na koncert dostępne na:\nhttps://sklep.knockoutprod.net (druki kolekcjonerskie)
URL:https://deathmagnetic.pl/wydarzenie/leprous-klone-maraton/
LOCATION:Klub Kwadrat\, Stanisława Skarżyńskiego 1\, Kraków\, 31 - 866\, Polska
CATEGORIES:Koncerty,zagraniczne
ORGANIZER;CN="KnockOut%20Productions":MAILTO:info@knockoutprod.net
GEO:50.083983;19.9961079
X-APPLE-STRUCTURED-LOCATION;VALUE=URI;X-ADDRESS=Klub Kwadrat Stanisława Skarżyńskiego 1 Kraków 31 - 866 Polska;X-APPLE-RADIUS=500;X-TITLE=Stanisława Skarżyńskiego 1:geo:19.9961079,50.083983
END:VEVENT
END:VCALENDAR