BEGIN:VCALENDAR
VERSION:2.0
PRODID:-//Death Magnetic - ECPv5.10.1//NONSGML v1.0//EN
CALSCALE:GREGORIAN
METHOD:PUBLISH
X-WR-CALNAME:Death Magnetic
X-ORIGINAL-URL:https://deathmagnetic.pl
X-WR-CALDESC:Events for Death Magnetic
BEGIN:VTIMEZONE
TZID:Europe/Warsaw
BEGIN:DAYLIGHT
TZOFFSETFROM:+0100
TZOFFSETTO:+0200
TZNAME:CEST
DTSTART:20170326T010000
END:DAYLIGHT
BEGIN:STANDARD
TZOFFSETFROM:+0200
TZOFFSETTO:+0100
TZNAME:CET
DTSTART:20171029T010000
END:STANDARD
END:VTIMEZONE
BEGIN:VEVENT
DTSTART;TZID=Europe/Warsaw:20170114T190000
DTEND;TZID=Europe/Warsaw:20170114T230000
DTSTAMP:20260420T084523
CREATED:20161213T123404Z
LAST-MODIFIED:20161213T123404Z
UID:109520-1484420400-1484434800@deathmagnetic.pl
SUMMARY:Legacy Tour Part I - Christ Agony + Stillborn
DESCRIPTION:Bilety: 25/30 zł
URL:https://deathmagnetic.pl/wydarzenie/legacy-tour-part-i-christ-agony-stillborn-9/
LOCATION:Urwany Film\, Narutowicza 2a/1\, Kalisz\, wielkopolskie\, 62-800\, Polska
CATEGORIES:Koncerty,Polskie
ATTACH;FMTTYPE=image/jpeg:https://deathmagnetic.pl/wp-content/uploads/2016/12/christ-agony-stillborn.jpg
ORGANIZER;CN="Left%20Hand%20Sounds":MAILTO:info@lefthandsounds.org
GEO:51.7614915;18.0869472
X-APPLE-STRUCTURED-LOCATION;VALUE=URI;X-ADDRESS=Urwany Film Narutowicza 2a/1 Kalisz wielkopolskie 62-800 Polska;X-APPLE-RADIUS=500;X-TITLE=Narutowicza 2a/1:geo:18.0869472,51.7614915
END:VEVENT
END:VCALENDAR