BEGIN:VCALENDAR
VERSION:2.0
PRODID:-//Death Magnetic - ECPv5.10.1//NONSGML v1.0//EN
CALSCALE:GREGORIAN
METHOD:PUBLISH
X-WR-CALNAME:Death Magnetic
X-ORIGINAL-URL:https://deathmagnetic.pl
X-WR-CALDESC:Events for Death Magnetic
BEGIN:VTIMEZONE
TZID:Europe/Warsaw
BEGIN:DAYLIGHT
TZOFFSETFROM:+0100
TZOFFSETTO:+0200
TZNAME:CEST
DTSTART:20170326T010000
END:DAYLIGHT
BEGIN:STANDARD
TZOFFSETFROM:+0200
TZOFFSETTO:+0100
TZNAME:CET
DTSTART:20171029T010000
END:STANDARD
END:VTIMEZONE
BEGIN:VEVENT
DTSTART;TZID=Europe/Warsaw:20170113T190000
DTEND;TZID=Europe/Warsaw:20170113T230000
DTSTAMP:20260420T142010
CREATED:20161213T123009Z
LAST-MODIFIED:20161213T123009Z
UID:109519-1484334000-1484348400@deathmagnetic.pl
SUMMARY:Legacy Tour Part I - Christ Agony + Stillborn
DESCRIPTION:Bilety: 25/30 zł
URL:https://deathmagnetic.pl/wydarzenie/legacy-tour-part-i-christ-agony-stillborn-8/
LOCATION:Wyspa\, Wojska Polskiego 65\, Zielona Góra\, Polska
CATEGORIES:Koncerty,Polskie
ATTACH;FMTTYPE=image/jpeg:https://deathmagnetic.pl/wp-content/uploads/2016/12/christ-agony-stillborn.jpg
ORGANIZER;CN="Left%20Hand%20Sounds":MAILTO:info@lefthandsounds.org
GEO:51.9356214;15.5061862
X-APPLE-STRUCTURED-LOCATION;VALUE=URI;X-ADDRESS=Wyspa Wojska Polskiego 65 Zielona Góra Polska;X-APPLE-RADIUS=500;X-TITLE=Wojska Polskiego 65:geo:15.5061862,51.9356214
END:VEVENT
END:VCALENDAR