BEGIN:VCALENDAR
VERSION:2.0
PRODID:-//Death Magnetic - ECPv5.10.1//NONSGML v1.0//EN
CALSCALE:GREGORIAN
METHOD:PUBLISH
X-WR-CALNAME:Death Magnetic
X-ORIGINAL-URL:https://deathmagnetic.pl
X-WR-CALDESC:Events for Death Magnetic
BEGIN:VTIMEZONE
TZID:Europe/Warsaw
BEGIN:DAYLIGHT
TZOFFSETFROM:+0100
TZOFFSETTO:+0200
TZNAME:CEST
DTSTART:20170326T010000
END:DAYLIGHT
BEGIN:STANDARD
TZOFFSETFROM:+0200
TZOFFSETTO:+0100
TZNAME:CET
DTSTART:20171029T010000
END:STANDARD
END:VTIMEZONE
BEGIN:VEVENT
DTSTART;TZID=Europe/Warsaw:20170112T190000
DTEND;TZID=Europe/Warsaw:20170112T230000
DTSTAMP:20260420T084528
CREATED:20161213T122749Z
LAST-MODIFIED:20161213T122749Z
UID:109518-1484247600-1484262000@deathmagnetic.pl
SUMMARY:Legacy Tour Part I - Christ Agony + Stillborn
DESCRIPTION:Bilety: 25/30 zł
URL:https://deathmagnetic.pl/wydarzenie/legacy-tour-part-i-christ-agony-stillborn-7/
LOCATION:C-60\, Zaułek 1\, Gorzów Wielkopolski\, 66-400\, Polska
CATEGORIES:Koncerty,Polskie
ATTACH;FMTTYPE=image/jpeg:https://deathmagnetic.pl/wp-content/uploads/2016/12/christ-agony-stillborn.jpg
ORGANIZER;CN="Left%20Hand%20Sounds":MAILTO:info@lefthandsounds.org
GEO:52.7295452;15.2367685
X-APPLE-STRUCTURED-LOCATION;VALUE=URI;X-ADDRESS=C-60 Zaułek 1 Gorzów Wielkopolski 66-400 Polska;X-APPLE-RADIUS=500;X-TITLE=Zaułek 1:geo:15.2367685,52.7295452
END:VEVENT
END:VCALENDAR