BEGIN:VCALENDAR
VERSION:2.0
PRODID:-//Death Magnetic - ECPv5.10.1//NONSGML v1.0//EN
CALSCALE:GREGORIAN
METHOD:PUBLISH
X-WR-CALNAME:Death Magnetic
X-ORIGINAL-URL:https://deathmagnetic.pl
X-WR-CALDESC:Events for Death Magnetic
BEGIN:VTIMEZONE
TZID:Europe/Warsaw
BEGIN:DAYLIGHT
TZOFFSETFROM:+0100
TZOFFSETTO:+0200
TZNAME:CEST
DTSTART:20170326T010000
END:DAYLIGHT
BEGIN:STANDARD
TZOFFSETFROM:+0200
TZOFFSETTO:+0100
TZNAME:CET
DTSTART:20171029T010000
END:STANDARD
END:VTIMEZONE
BEGIN:VEVENT
DTSTART;TZID=Europe/Warsaw:20170201T190000
DTEND;TZID=Europe/Warsaw:20170201T230000
DTSTAMP:20260421T074902
CREATED:20161213T160101Z
LAST-MODIFIED:20161213T160101Z
UID:109535-1485975600-1485990000@deathmagnetic.pl
SUMMARY:Legacy Tour II: Christ Agony + Thy Worshiper + Ragehammer
DESCRIPTION:Bilety w cenie 35zł dostępnie na stronie Left Hand Sounds.
URL:https://deathmagnetic.pl/wydarzenie/legacy-tour-ii-christ-agony-thy-worshiper-ragehammer-4/
LOCATION:Club Graffiti\, ul. Piłsudskiego 13\, Lublin\, 20-001\, Polska
CATEGORIES:Koncerty,Polskie
ATTACH;FMTTYPE=image/jpeg:https://deathmagnetic.pl/wp-content/uploads/2016/12/christ-agony-thy-worshiper-ragehammer.jpg
ORGANIZER;CN="Left%20Hand%20Sounds":MAILTO:info@lefthandsounds.org
GEO:51.2402957;22.5571225
X-APPLE-STRUCTURED-LOCATION;VALUE=URI;X-ADDRESS=Club Graffiti ul. Piłsudskiego 13 Lublin 20-001 Polska;X-APPLE-RADIUS=500;X-TITLE=ul. Piłsudskiego 13:geo:22.5571225,51.2402957
END:VEVENT
END:VCALENDAR