BEGIN:VCALENDAR
VERSION:2.0
PRODID:-//Death Magnetic - ECPv5.10.1//NONSGML v1.0//EN
CALSCALE:GREGORIAN
METHOD:PUBLISH
X-WR-CALNAME:Death Magnetic
X-ORIGINAL-URL:https://deathmagnetic.pl
X-WR-CALDESC:Events for Death Magnetic
BEGIN:VTIMEZONE
TZID:Europe/Warsaw
BEGIN:DAYLIGHT
TZOFFSETFROM:+0100
TZOFFSETTO:+0200
TZNAME:CEST
DTSTART:20170326T010000
END:DAYLIGHT
BEGIN:STANDARD
TZOFFSETFROM:+0200
TZOFFSETTO:+0100
TZNAME:CET
DTSTART:20171029T010000
END:STANDARD
END:VTIMEZONE
BEGIN:VEVENT
DTSTART;TZID=Europe/Warsaw:20170131T190000
DTEND;TZID=Europe/Warsaw:20170131T230000
DTSTAMP:20260420T173526
CREATED:20161213T143630Z
LAST-MODIFIED:20161213T143630Z
UID:109534-1485889200-1485903600@deathmagnetic.pl
SUMMARY:Legacy Tour II: Christ Agony + Thy Worshiper +Ragehammer
DESCRIPTION:Bilety w cenie 35zł dostępnie na stronie Left Hand Sounds.
URL:https://deathmagnetic.pl/wydarzenie/legacy-tour-ii-christ-agony-thy-worshiper-ragehammer-3/
LOCATION:Voodoo Club\, ul. Bema 65\, Warszawa\, 01-244\, Polska
CATEGORIES:Koncerty,Polskie
ATTACH;FMTTYPE=image/jpeg:https://deathmagnetic.pl/wp-content/uploads/2016/12/christ-agony-thy-worshiper-ragehammer.jpg
ORGANIZER;CN="Left%20Hand%20Sounds":MAILTO:info@lefthandsounds.org
END:VEVENT
END:VCALENDAR