BEGIN:VCALENDAR
VERSION:2.0
PRODID:-//Death Magnetic - ECPv5.10.1//NONSGML v1.0//EN
CALSCALE:GREGORIAN
METHOD:PUBLISH
X-WR-CALNAME:Death Magnetic
X-ORIGINAL-URL:https://deathmagnetic.pl
X-WR-CALDESC:Events for Death Magnetic
BEGIN:VTIMEZONE
TZID:Europe/Warsaw
BEGIN:DAYLIGHT
TZOFFSETFROM:+0100
TZOFFSETTO:+0200
TZNAME:CEST
DTSTART:20170326T010000
END:DAYLIGHT
BEGIN:STANDARD
TZOFFSETFROM:+0200
TZOFFSETTO:+0100
TZNAME:CET
DTSTART:20171029T010000
END:STANDARD
END:VTIMEZONE
BEGIN:VEVENT
DTSTART;TZID=Europe/Warsaw:20170130T190000
DTEND;TZID=Europe/Warsaw:20170130T230000
DTSTAMP:20260420T154636
CREATED:20161213T142919Z
LAST-MODIFIED:20161213T142919Z
UID:109533-1485802800-1485817200@deathmagnetic.pl
SUMMARY:Legacy Tour II: Christ Agony + Thy Worshiper + Ragehammer
DESCRIPTION:Bilety w cenie 35zł dostępnie na stronie Left Hand Sounds.
URL:https://deathmagnetic.pl/wydarzenie/legacy-tour-ii-christ-agony-thy-worshiper-ragehammer-2/
LOCATION:Klub Muzyczny New York\, Piotrkowska 62\, Łódź
CATEGORIES:Koncerty,Polskie
ATTACH;FMTTYPE=image/jpeg:https://deathmagnetic.pl/wp-content/uploads/2016/12/christ-agony-thy-worshiper-ragehammer.jpg
ORGANIZER;CN="Left%20Hand%20Sounds":MAILTO:info@lefthandsounds.org
GEO:51.7695971;19.4565449
X-APPLE-STRUCTURED-LOCATION;VALUE=URI;X-ADDRESS=Klub Muzyczny New York Piotrkowska 62 Łódź;X-APPLE-RADIUS=500;X-TITLE=Piotrkowska 62:geo:19.4565449,51.7695971
END:VEVENT
END:VCALENDAR