BEGIN:VCALENDAR
VERSION:2.0
PRODID:-//Death Magnetic - ECPv5.10.1//NONSGML v1.0//EN
CALSCALE:GREGORIAN
METHOD:PUBLISH
X-WR-CALNAME:Death Magnetic
X-ORIGINAL-URL:https://deathmagnetic.pl
X-WR-CALDESC:Events for Death Magnetic
BEGIN:VTIMEZONE
TZID:Europe/Warsaw
BEGIN:DAYLIGHT
TZOFFSETFROM:+0100
TZOFFSETTO:+0200
TZNAME:CEST
DTSTART:20150329T010000
END:DAYLIGHT
BEGIN:STANDARD
TZOFFSETFROM:+0200
TZOFFSETTO:+0100
TZNAME:CET
DTSTART:20151025T010000
END:STANDARD
END:VTIMEZONE
BEGIN:VEVENT
DTSTART;TZID=Europe/Warsaw:20150407T190000
DTEND;TZID=Europe/Warsaw:20150407T230000
DTSTAMP:20260421T012938
CREATED:20150309T174536Z
LAST-MODIFIED:20150309T174536Z
UID:75475-1428433200-1428447600@deathmagnetic.pl
SUMMARY:Kult Unplugged
DESCRIPTION:Ceny biletów: \n100/110/120zł \nBilety dostępne na: \nTicketpro\, eBilet oraz Eventim.
URL:https://deathmagnetic.pl/wydarzenie/kult-unplugged-5/
LOCATION:Centrum Kongresowe UP\, Akademicka 15\, Lublin
CATEGORIES:Koncerty,Polskie
ATTACH;FMTTYPE=image/jpeg:https://deathmagnetic.pl/wp-content/uploads/2015/03/kult.jpg
GEO:51.2437291;22.5422522
X-APPLE-STRUCTURED-LOCATION;VALUE=URI;X-ADDRESS=Centrum Kongresowe UP Akademicka 15 Lublin;X-APPLE-RADIUS=500;X-TITLE=Akademicka 15:geo:22.5422522,51.2437291
END:VEVENT
END:VCALENDAR