BEGIN:VCALENDAR
VERSION:2.0
PRODID:-//Death Magnetic - ECPv5.10.1//NONSGML v1.0//EN
CALSCALE:GREGORIAN
METHOD:PUBLISH
X-WR-CALNAME:Death Magnetic
X-ORIGINAL-URL:https://deathmagnetic.pl
X-WR-CALDESC:Events for Death Magnetic
BEGIN:VTIMEZONE
TZID:Europe/Warsaw
BEGIN:DAYLIGHT
TZOFFSETFROM:+0100
TZOFFSETTO:+0200
TZNAME:CEST
DTSTART:20150329T010000
END:DAYLIGHT
BEGIN:STANDARD
TZOFFSETFROM:+0200
TZOFFSETTO:+0100
TZNAME:CET
DTSTART:20151025T010000
END:STANDARD
END:VTIMEZONE
BEGIN:VEVENT
DTSTART;TZID=Europe/Warsaw:20150315T190000
DTEND;TZID=Europe/Warsaw:20150315T230000
DTSTAMP:20260421T085926
CREATED:20150309T174058Z
LAST-MODIFIED:20150309T174058Z
UID:75473-1426446000-1426460400@deathmagnetic.pl
SUMMARY:Kult Unplugged
DESCRIPTION:Ceny biletów: \nPrzedsprzedaż: 100/120/130zł \nW dniu koncertu: 100/130/140zł \n  \nBilety dostępne na: \neBilet\, Ticketpro
URL:https://deathmagnetic.pl/wydarzenie/kult-unplugged-4/
LOCATION:Kijów Centrum\, Al. Krasińskiego 34\, Kraków\, Polska
CATEGORIES:Koncerty,Polskie
ATTACH;FMTTYPE=image/jpeg:https://deathmagnetic.pl/wp-content/uploads/2015/03/kult.jpg
GEO:50.0584454;19.92515
X-APPLE-STRUCTURED-LOCATION;VALUE=URI;X-ADDRESS=Kijów Centrum Al. Krasińskiego 34 Kraków Polska;X-APPLE-RADIUS=500;X-TITLE=Al. Krasińskiego 34:geo:19.92515,50.0584454
END:VEVENT
END:VCALENDAR