BEGIN:VCALENDAR
VERSION:2.0
PRODID:-//Death Magnetic - ECPv5.10.1//NONSGML v1.0//EN
CALSCALE:GREGORIAN
METHOD:PUBLISH
X-WR-CALNAME:Death Magnetic
X-ORIGINAL-URL:https://deathmagnetic.pl
X-WR-CALDESC:Events for Death Magnetic
BEGIN:VTIMEZONE
TZID:Europe/Warsaw
BEGIN:DAYLIGHT
TZOFFSETFROM:+0100
TZOFFSETTO:+0200
TZNAME:CEST
DTSTART:20160327T010000
END:DAYLIGHT
BEGIN:STANDARD
TZOFFSETFROM:+0200
TZOFFSETTO:+0100
TZNAME:CET
DTSTART:20161030T010000
END:STANDARD
END:VTIMEZONE
BEGIN:VEVENT
DTSTART;TZID=Europe/Warsaw:20160318T190000
DTEND;TZID=Europe/Warsaw:20160318T230000
DTSTAMP:20260421T035639
CREATED:20160206T174505Z
LAST-MODIFIED:20160206T174505Z
UID:96984-1458327600-1458342000@deathmagnetic.pl
SUMMARY:Kult Anplakt
DESCRIPTION:Bilety w cenie: 120zł\, 130zł\ndo nabycia: www.stodola.pl\, www.ebilet.pl\, www.eventim.pl\,www.ticketpro.pl\noraz w stacjonarnych punktach sprzedaży. Dokładną rozpiskę stacjonarnych punktów sprzedaży biletów można sprawdzić na stronach ww. dystrybutorów. \nTIMETABLE:\n18.00 – otwarcie sali\n19.00 – rozpoczęcie koncertu
URL:https://deathmagnetic.pl/wydarzenie/kult-anplakt/
LOCATION:Wytwórnia\, Łąkowa 29\, Łódź
CATEGORIES:Koncerty,Polskie
ATTACH;FMTTYPE=image/jpeg:https://deathmagnetic.pl/wp-content/uploads/2016/02/kult-anplakt-wytwórnia.jpg
GEO:51.757883;19.443701
X-APPLE-STRUCTURED-LOCATION;VALUE=URI;X-ADDRESS=Wytwórnia Łąkowa 29 Łódź;X-APPLE-RADIUS=500;X-TITLE=Łąkowa 29:geo:19.443701,51.757883
END:VEVENT
END:VCALENDAR