BEGIN:VCALENDAR
VERSION:2.0
PRODID:-//Death Magnetic - ECPv5.10.1//NONSGML v1.0//EN
CALSCALE:GREGORIAN
METHOD:PUBLISH
X-WR-CALNAME:Death Magnetic
X-ORIGINAL-URL:https://deathmagnetic.pl
X-WR-CALDESC:Events for Death Magnetic
BEGIN:VTIMEZONE
TZID:Europe/Warsaw
BEGIN:DAYLIGHT
TZOFFSETFROM:+0100
TZOFFSETTO:+0200
TZNAME:CEST
DTSTART:20150329T010000
END:DAYLIGHT
BEGIN:STANDARD
TZOFFSETFROM:+0200
TZOFFSETTO:+0100
TZNAME:CET
DTSTART:20151025T010000
END:STANDARD
END:VTIMEZONE
BEGIN:VEVENT
DTSTART;TZID=Europe/Warsaw:20151112T190000
DTEND;TZID=Europe/Warsaw:20151112T230000
DTSTAMP:20260420T223501
CREATED:20151111T131010Z
LAST-MODIFIED:20151111T131010Z
UID:94273-1447354800-1447369200@deathmagnetic.pl
SUMMARY:Kult
DESCRIPTION:Ceny biletów:\n60 zł – przedsprzedaż\n65 zł – w dniu koncertu\n75 zł – miejsca siedzące (balkon)\n \nBilety dostępne w sieci salonów Empik\, Saturn i MediaMarkt w całej Polsce oraz w serwisach: www.biletin.pl\, www.ticketpro.pl\, www.ebilet.pl\,www.eventim.pl.\nRezerwacje: bilety@o2.pl
URL:https://deathmagnetic.pl/wydarzenie/kult-3/
LOCATION:Eter Club\, ul. Kazimierza Wielkiego 19\, Wroclaw\, dolnośląskie\, 50-077 \, Polska
CATEGORIES:Koncerty,Polskie
ATTACH;FMTTYPE=image/jpeg:https://deathmagnetic.pl/wp-content/uploads/2015/11/11800496_10153166462018882_7253037646049105426_n.jpg
ORGANIZER;CN="wROCKfest.pl":MAILTO:wrockfest@wrockfest.pl
GEO:51.1094609;17.0263
X-APPLE-STRUCTURED-LOCATION;VALUE=URI;X-ADDRESS=Eter Club ul. Kazimierza Wielkiego 19 Wroclaw dolnośląskie 50-077  Polska;X-APPLE-RADIUS=500;X-TITLE=ul. Kazimierza Wielkiego 19:geo:17.0263,51.1094609
END:VEVENT
END:VCALENDAR