BEGIN:VCALENDAR
VERSION:2.0
PRODID:-//Death Magnetic - ECPv5.10.1//NONSGML v1.0//EN
CALSCALE:GREGORIAN
METHOD:PUBLISH
X-WR-CALNAME:Death Magnetic
X-ORIGINAL-URL:https://deathmagnetic.pl
X-WR-CALDESC:Events for Death Magnetic
BEGIN:VTIMEZONE
TZID:Europe/Warsaw
BEGIN:DAYLIGHT
TZOFFSETFROM:+0100
TZOFFSETTO:+0200
TZNAME:CEST
DTSTART:20170326T010000
END:DAYLIGHT
BEGIN:STANDARD
TZOFFSETFROM:+0200
TZOFFSETTO:+0100
TZNAME:CET
DTSTART:20171029T010000
END:STANDARD
END:VTIMEZONE
BEGIN:VEVENT
DTSTART;TZID=Europe/Warsaw:20170812T160000
DTEND;TZID=Europe/Warsaw:20170812T233000
DTSTAMP:20260420T073355
CREATED:20170807T175857Z
LAST-MODIFIED:20170807T175857Z
UID:148794-1502553600-1502580600@deathmagnetic.pl
SUMMARY:Książ Rock Zone Festiwal: Nocny Kochanek + ThermiT + Monstrum + Exist + Molly Malone's
DESCRIPTION:Wjazd: 0zł
URL:https://deathmagnetic.pl/wydarzenie/ksiaz-rock-zone-festiwal-nocny-kochanek-thermit-monstrum-exist-molly-malones/
LOCATION:Książ Wielkopolski\, Książ Wielkopolski\, mazowieckie
CATEGORIES:Festiwale,Polskie
ATTACH;FMTTYPE=image/jpeg:https://deathmagnetic.pl/wp-content/uploads/2017/07/ks.jpg
GEO:52.0609041;17.239347
END:VEVENT
END:VCALENDAR