BEGIN:VCALENDAR
VERSION:2.0
PRODID:-//Death Magnetic - ECPv5.10.1//NONSGML v1.0//EN
CALSCALE:GREGORIAN
METHOD:PUBLISH
X-WR-CALNAME:Death Magnetic
X-ORIGINAL-URL:https://deathmagnetic.pl
X-WR-CALDESC:Events for Death Magnetic
BEGIN:VTIMEZONE
TZID:Europe/Warsaw
BEGIN:DAYLIGHT
TZOFFSETFROM:+0100
TZOFFSETTO:+0200
TZNAME:CEST
DTSTART:20150329T010000
END:DAYLIGHT
BEGIN:STANDARD
TZOFFSETFROM:+0200
TZOFFSETTO:+0100
TZNAME:CET
DTSTART:20151025T010000
END:STANDARD
END:VTIMEZONE
BEGIN:VEVENT
DTSTART;VALUE=DATE:20150912
DTEND;VALUE=DATE:20150913
DTSTAMP:20260420T020010
CREATED:20150714T130132Z
LAST-MODIFIED:20150901T152917Z
UID:87917-1442016000-1442102399@deathmagnetic.pl
SUMMARY:KrushFest 2015
DESCRIPTION:Wystąpią: \nAcid Drinkers\nKSU\nKrusher\nSpatial\nAdligate Band\nSteel Velvet
URL:https://deathmagnetic.pl/wydarzenie/krushfest-2015/
LOCATION:Obiekt rekreacyjno-wypoczynkowy „Przystanek Kwiatowa” w Jaśle\, Jasło\, 38-200
ATTACH;FMTTYPE=image/jpeg:https://deathmagnetic.pl/wp-content/uploads/2015/09/krushfest_2015.jpg
GEO:49.7445663;21.4722875
END:VEVENT
END:VCALENDAR