BEGIN:VCALENDAR
VERSION:2.0
PRODID:-//Death Magnetic - ECPv5.10.1//NONSGML v1.0//EN
CALSCALE:GREGORIAN
METHOD:PUBLISH
X-WR-CALNAME:Death Magnetic
X-ORIGINAL-URL:https://deathmagnetic.pl
X-WR-CALDESC:Events for Death Magnetic
BEGIN:VTIMEZONE
TZID:Europe/Warsaw
BEGIN:DAYLIGHT
TZOFFSETFROM:+0100
TZOFFSETTO:+0200
TZNAME:CEST
DTSTART:20160327T010000
END:DAYLIGHT
BEGIN:STANDARD
TZOFFSETFROM:+0200
TZOFFSETTO:+0100
TZNAME:CET
DTSTART:20161030T010000
END:STANDARD
END:VTIMEZONE
BEGIN:VEVENT
DTSTART;TZID=Europe/Warsaw:20161024T193000
DTEND;TZID=Europe/Warsaw:20161024T230000
DTSTAMP:20260420T222107
CREATED:20160609T094931Z
LAST-MODIFIED:20160609T094931Z
UID:101892-1477337400-1477350000@deathmagnetic.pl
SUMMARY:Korpiklaani + Skálmöld
DESCRIPTION:Bilety:\n65 pln – http://pwevents.pl/pl/bilety\,1\,385.html\n75 pln – Ticketpro\, Eventim\, Ebilet\, Biletomat.pl\n85 pln – w dniu koncertu
URL:https://deathmagnetic.pl/wydarzenie/korpiklaani-skalmold/
LOCATION:Klub Muzyczny Ucho\, ul. Św. Piotra 2\, Gdynia\, Polska
CATEGORIES:Koncerty,zagraniczne
ATTACH;FMTTYPE=image/jpeg:https://deathmagnetic.pl/wp-content/uploads/2016/06/korpiklaani-gdynia.jpg
ORGANIZER;CN="P.W.%20Events":MAILTO:piotr@pwevents.pl
GEO:54.5244315;18.5469228
X-APPLE-STRUCTURED-LOCATION;VALUE=URI;X-ADDRESS=Klub Muzyczny Ucho ul. Św. Piotra 2 Gdynia Polska;X-APPLE-RADIUS=500;X-TITLE=ul. Św. Piotra 2:geo:18.5469228,54.5244315
END:VEVENT
END:VCALENDAR