BEGIN:VCALENDAR
VERSION:2.0
PRODID:-//Death Magnetic - ECPv5.10.1//NONSGML v1.0//EN
CALSCALE:GREGORIAN
METHOD:PUBLISH
X-WR-CALNAME:Death Magnetic
X-ORIGINAL-URL:https://deathmagnetic.pl
X-WR-CALDESC:Events for Death Magnetic
BEGIN:VTIMEZONE
TZID:Europe/Warsaw
BEGIN:DAYLIGHT
TZOFFSETFROM:+0100
TZOFFSETTO:+0200
TZNAME:CEST
DTSTART:20160327T010000
END:DAYLIGHT
BEGIN:STANDARD
TZOFFSETFROM:+0200
TZOFFSETTO:+0100
TZNAME:CET
DTSTART:20161030T010000
END:STANDARD
END:VTIMEZONE
BEGIN:VEVENT
DTSTART;TZID=Europe/Warsaw:20161026T193000
DTEND;TZID=Europe/Warsaw:20161026T230000
DTSTAMP:20260421T064355
CREATED:20160609T095711Z
LAST-MODIFIED:20160609T095711Z
UID:101896-1477510200-1477522800@deathmagnetic.pl
SUMMARY:Korpiklaani + Skálmöld
DESCRIPTION:Bilety:\n65 pln http://pwevents.pl/pl/bilety\,1\,387.html\n75 pln Ticketpro\, Eventim\, Ebilet\, Biletomat.pl\, Alibi\, Rocky Shop (DH Feniks)\n85 pln w dniu koncertu
URL:https://deathmagnetic.pl/wydarzenie/korpiklaani-skalmold-3/
LOCATION:Alibi Club\, ul. Grunwaldzka 67\, Wrocław\, Polska
CATEGORIES:Koncerty,zagraniczne
ATTACH;FMTTYPE=image/jpeg:https://deathmagnetic.pl/wp-content/uploads/2016/06/korpiklaani-wroclaw.jpg
ORGANIZER;CN="P.W.%20Events":MAILTO:piotr@pwevents.pl
GEO:51.1145141;17.0665483
X-APPLE-STRUCTURED-LOCATION;VALUE=URI;X-ADDRESS=Alibi Club ul. Grunwaldzka 67 Wrocław Polska;X-APPLE-RADIUS=500;X-TITLE=ul. Grunwaldzka 67:geo:17.0665483,51.1145141
END:VEVENT
END:VCALENDAR