BEGIN:VCALENDAR
VERSION:2.0
PRODID:-//Death Magnetic - ECPv5.10.1//NONSGML v1.0//EN
CALSCALE:GREGORIAN
METHOD:PUBLISH
X-WR-CALNAME:Death Magnetic
X-ORIGINAL-URL:https://deathmagnetic.pl
X-WR-CALDESC:Events for Death Magnetic
BEGIN:VTIMEZONE
TZID:Europe/Warsaw
BEGIN:DAYLIGHT
TZOFFSETFROM:+0100
TZOFFSETTO:+0200
TZNAME:CEST
DTSTART:20170326T010000
END:DAYLIGHT
BEGIN:STANDARD
TZOFFSETFROM:+0200
TZOFFSETTO:+0100
TZNAME:CET
DTSTART:20171029T010000
END:STANDARD
END:VTIMEZONE
BEGIN:VEVENT
DTSTART;VALUE=DATE:20170331
DTEND;VALUE=DATE:20170401
DTSTAMP:20260420T042353
CREATED:20160930T082135Z
LAST-MODIFIED:20160930T082135Z
UID:106003-1490918400-1491004799@deathmagnetic.pl
SUMMARY:KoRn + Heaven Shall Burn + HellYeah
DESCRIPTION:Bilety w cenach 149 zł – 289 zł oraz pakiety meet&greet wejdą do sprzedaży 3 października o 9.00 na LiveNation.pl.
URL:https://deathmagnetic.pl/wydarzenie/korn-heaven-shall-burn-hellyeah/
LOCATION:Hala Torwar\, ul. Łazienkowska 6a\, Warszawa\, 00-449\, Polska
CATEGORIES:Koncerty,zagraniczne
ATTACH;FMTTYPE=image/jpeg:https://deathmagnetic.pl/wp-content/uploads/2016/09/14520328_10154352443682631_2727039689085274837_n.jpg
ORGANIZER;CN="Live%20Nation":MAILTO:info@livenation.pl
GEO:52.2222869;21.040508
X-APPLE-STRUCTURED-LOCATION;VALUE=URI;X-ADDRESS=Hala Torwar ul. Łazienkowska 6a Warszawa 00-449 Polska;X-APPLE-RADIUS=500;X-TITLE=ul. Łazienkowska 6a:geo:21.040508,52.2222869
END:VEVENT
END:VCALENDAR