BEGIN:VCALENDAR
VERSION:2.0
PRODID:-//Death Magnetic - ECPv5.10.1//NONSGML v1.0//EN
CALSCALE:GREGORIAN
METHOD:PUBLISH
X-WR-CALNAME:Death Magnetic
X-ORIGINAL-URL:https://deathmagnetic.pl
X-WR-CALDESC:Events for Death Magnetic
BEGIN:VTIMEZONE
TZID:Europe/Warsaw
BEGIN:DAYLIGHT
TZOFFSETFROM:+0100
TZOFFSETTO:+0200
TZNAME:CEST
DTSTART:20170326T010000
END:DAYLIGHT
BEGIN:STANDARD
TZOFFSETFROM:+0200
TZOFFSETTO:+0100
TZNAME:CET
DTSTART:20171029T010000
END:STANDARD
END:VTIMEZONE
BEGIN:VEVENT
DTSTART;TZID=Europe/Warsaw:20170603T190000
DTEND;TZID=Europe/Warsaw:20170603T233000
DTSTAMP:20260420T120511
CREATED:20170509T172946Z
LAST-MODIFIED:20170509T172946Z
UID:117476-1496516400-1496532600@deathmagnetic.pl
SUMMARY:Kontagion + Mshaa + Stuffiness + Heresyer
DESCRIPTION:Bilety – 7zł
URL:https://deathmagnetic.pl/wydarzenie/kontagion-mshaa-stuffiness-heresyer/
LOCATION:Dwa Światy\, ul. Ducha św. 10/12\, Toruń\, 87-100\, Polska
CATEGORIES:Koncerty,Polskie
ATTACH;FMTTYPE=image/jpeg:https://deathmagnetic.pl/wp-content/uploads/2017/05/3-p-jpg.jpg
END:VEVENT
END:VCALENDAR