BEGIN:VCALENDAR
VERSION:2.0
PRODID:-//Death Magnetic - ECPv5.10.1//NONSGML v1.0//EN
CALSCALE:GREGORIAN
METHOD:PUBLISH
X-WR-CALNAME:Death Magnetic
X-ORIGINAL-URL:https://deathmagnetic.pl
X-WR-CALDESC:Events for Death Magnetic
BEGIN:VTIMEZONE
TZID:Europe/Warsaw
BEGIN:DAYLIGHT
TZOFFSETFROM:+0100
TZOFFSETTO:+0200
TZNAME:CEST
DTSTART:20160327T010000
END:DAYLIGHT
BEGIN:STANDARD
TZOFFSETFROM:+0200
TZOFFSETTO:+0100
TZNAME:CET
DTSTART:20161030T010000
END:STANDARD
END:VTIMEZONE
BEGIN:VEVENT
DTSTART;TZID=Europe/Warsaw:20160609T200000
DTEND;TZID=Europe/Warsaw:20160609T223000
DTSTAMP:20260420T223813
CREATED:20160509T191712Z
LAST-MODIFIED:20160509T191712Z
UID:100501-1465502400-1465511400@deathmagnetic.pl
SUMMARY:„KISS Rocks Vegas”  [Multikino]
DESCRIPTION:Ceny biletów: \n\nKatowice – Atmos: 29 zł\nWarszawa: 27 zł\nGdańsk\, Kraków\, Łódź\, Poznań\, Wrocław – Pasaż: 25 zł\nPozostałe kina: 23 zł
URL:https://deathmagnetic.pl/wydarzenie/kiss-rocks-vegas-multikino/
LOCATION:Miejsce bez nazwy\, mazowieckie
CATEGORIES:patronaty
ATTACH;FMTTYPE=image/jpeg:https://deathmagnetic.pl/wp-content/uploads/2016/05/Kiss-plak.jpg
GEO:51.8927182;21.0021679
END:VEVENT
END:VCALENDAR