BEGIN:VCALENDAR
VERSION:2.0
PRODID:-//Death Magnetic - ECPv5.10.1//NONSGML v1.0//EN
CALSCALE:GREGORIAN
METHOD:PUBLISH
X-WR-CALNAME:Death Magnetic
X-ORIGINAL-URL:https://deathmagnetic.pl
X-WR-CALDESC:Events for Death Magnetic
BEGIN:VTIMEZONE
TZID:Europe/Warsaw
BEGIN:DAYLIGHT
TZOFFSETFROM:+0100
TZOFFSETTO:+0200
TZNAME:CEST
DTSTART:20150329T010000
END:DAYLIGHT
BEGIN:STANDARD
TZOFFSETFROM:+0200
TZOFFSETTO:+0100
TZNAME:CET
DTSTART:20151025T010000
END:STANDARD
END:VTIMEZONE
BEGIN:VEVENT
DTSTART;TZID=Europe/Warsaw:20150604T190000
DTEND;TZID=Europe/Warsaw:20150604T230000
DTSTAMP:20260421T043001
CREATED:20150522T145441Z
LAST-MODIFIED:20150522T145441Z
UID:84305-1433444400-1433458800@deathmagnetic.pl
SUMMARY:KINSKY + Ketha + The Gentle Art Of Cooking People
DESCRIPTION:Ceny biletów: \n20zł – przedsprzedaż\n30zł – w dniu koncertu \nBilety dostępne na stronie oraz w klubie Alchemia.
URL:https://deathmagnetic.pl/wydarzenie/kinsky-ketha-the-gentle-art-of-cooking-people/
LOCATION:Klub Alchemia\, Estery 5\, Kraków\, 31-056\, Polska
CATEGORIES:Koncerty,Polskie
ATTACH;FMTTYPE=image/jpeg:https://deathmagnetic.pl/wp-content/uploads/2015/05/KINSKY-Kraków.jpg
GEO:50.0524046;19.9450074
X-APPLE-STRUCTURED-LOCATION;VALUE=URI;X-ADDRESS=Klub Alchemia Estery 5 Kraków 31-056 Polska;X-APPLE-RADIUS=500;X-TITLE=Estery 5:geo:19.9450074,50.0524046
END:VEVENT
END:VCALENDAR