BEGIN:VCALENDAR
VERSION:2.0
PRODID:-//Death Magnetic - ECPv5.10.1//NONSGML v1.0//EN
CALSCALE:GREGORIAN
METHOD:PUBLISH
X-WR-CALNAME:Death Magnetic
X-ORIGINAL-URL:https://deathmagnetic.pl
X-WR-CALDESC:Events for Death Magnetic
BEGIN:VTIMEZONE
TZID:Europe/Warsaw
BEGIN:DAYLIGHT
TZOFFSETFROM:+0100
TZOFFSETTO:+0200
TZNAME:CEST
DTSTART:20150329T010000
END:DAYLIGHT
BEGIN:STANDARD
TZOFFSETFROM:+0200
TZOFFSETTO:+0100
TZNAME:CET
DTSTART:20151025T010000
END:STANDARD
END:VTIMEZONE
BEGIN:VEVENT
DTSTART;TZID=Europe/Warsaw:20150324T190000
DTEND;TZID=Europe/Warsaw:20150324T233000
DTSTAMP:20260421T131208
CREATED:20150324T155219Z
LAST-MODIFIED:20150324T155219Z
UID:77422-1427223600-1427239800@deathmagnetic.pl
SUMMARY:King of Rock and 'Roll - koncert ku pamięci Ronniego Jamesa Dio
DESCRIPTION:Przy akompaniamencie zespołu Scream Maker oraz utalentowanego klawiszowca Łukasza Jakubowicza (Ania Rusowicz) gościnnie wystąpią\, m.in.: \nGrzegorz Kupczyk (Ceti Kupczyk)\nGrzegorz Wolf Wilk\nTomasz Struszczyk (Turbo (oficjalny profil zespołu)\nGrzegorz Kotyłło (Tipsy Train)\nŁukasz Borawski (War-Saw)\nŁukasz Drapała (CHEMIA)\nWojtek Balczun (Chemia)\nNorbert Smoła Smoliński & Contra Mundum\nRoman Kańtoch (Kruk)\nPiotr Brzychcy (Kruk)\nSebastian Pańczyk (Ex-Leash Eye)\nPiotr Voltan Sikora (Exlibris)\nKrzysztof Sokołowski (Exlibris/Night Mistress)\nMateusz Grzmiel (SteelFire)\nSzymon Dżumak (ex-Frost Commander) \nBilety:\n25 zl – przedsprzedaż (w klubie Proxima od poniedziałku do piątku w godz. 9:00- 17:00 )\, w klubie Palladium i na http://doladowaniefest.8merch.com/)\n35 zł – dzień koncertu \n 
URL:https://deathmagnetic.pl/wydarzenie/king-of-rock-and-roll-koncert-ku-pamieci-ronniego-jamesa-dio/
LOCATION:Proxima\, ul. Żwirki i Wigury 99\, Warszawa\, Polska
CATEGORIES:Koncerty,Polskie
ATTACH;FMTTYPE=image/jpeg:https://deathmagnetic.pl/wp-content/uploads/2015/03/King-of-Rock-n-Roll.jpg
GEO:52.212567;20.987187
X-APPLE-STRUCTURED-LOCATION;VALUE=URI;X-ADDRESS=Proxima ul. Żwirki i Wigury 99 Warszawa Polska;X-APPLE-RADIUS=500;X-TITLE=ul. Żwirki i Wigury 99:geo:20.987187,52.212567
END:VEVENT
END:VCALENDAR