BEGIN:VCALENDAR
VERSION:2.0
PRODID:-//Death Magnetic - ECPv5.10.1//NONSGML v1.0//EN
CALSCALE:GREGORIAN
METHOD:PUBLISH
X-WR-CALNAME:Death Magnetic
X-ORIGINAL-URL:https://deathmagnetic.pl
X-WR-CALDESC:Events for Death Magnetic
BEGIN:VTIMEZONE
TZID:Europe/Warsaw
BEGIN:DAYLIGHT
TZOFFSETFROM:+0100
TZOFFSETTO:+0200
TZNAME:CEST
DTSTART:20160327T010000
END:DAYLIGHT
BEGIN:STANDARD
TZOFFSETFROM:+0200
TZOFFSETTO:+0100
TZNAME:CET
DTSTART:20161030T010000
END:STANDARD
END:VTIMEZONE
BEGIN:VEVENT
DTSTART;VALUE=DATE:20160920
DTEND;VALUE=DATE:20160921
DTSTAMP:20260421T073302
CREATED:20151126T084627Z
LAST-MODIFIED:20151126T084627Z
UID:94858-1474329600-1474415999@deathmagnetic.pl
SUMMARY:King Crimson
DESCRIPTION:Ceny biletów:\n– kategoria A – 349 zł (do 31 grudnia) – 369 zł (od 1 stycznia)\n– kategoria B – 299 zł (do 31 grudnia) – 319 zł (od 1 stycznia)\n– kategoria C – 269 zł (do 31 grudnia) – 289 zł (od 1 stycznia)\n– kategoria D – 239 zł (do 31 grudnia) – 259 zł (od 1 stycznia)\n– kategoria E – 209 zł (do 31 grudnia) – 229 zł (od 1 stycznia)\n– kategoria F – 189 zł (do 31 grudnia) – 199 zł (od 1 stycznia) \nBilety trafią do sprzedaży w piątek (27 listopada) i będą dostepne na stronach rockserwis.pl\, ticketpro.pl\, eventim.pl oraz w punktach sprzedaży sieci.
URL:https://deathmagnetic.pl/wydarzenie/king-crimson-3/
LOCATION:Narodowe Forum Muzyki\, Plac Wolności 1\, Wrocław\, dolnośląskie\, 50-071\, Polska
CATEGORIES:Koncerty,zagraniczne
ATTACH;FMTTYPE=image/jpeg:https://deathmagnetic.pl/wp-content/uploads/2015/11/12274319_884866334936247_8602180930690672612_n.jpg
ORGANIZER;CN="Rock%20Serwis":MAILTO:bok@rockserwis.pl
GEO:51.1067657;17.0279832
X-APPLE-STRUCTURED-LOCATION;VALUE=URI;X-ADDRESS=Narodowe Forum Muzyki Plac Wolności 1 Wrocław dolnośląskie 50-071 Polska;X-APPLE-RADIUS=500;X-TITLE=Plac Wolności 1:geo:17.0279832,51.1067657
END:VEVENT
END:VCALENDAR