BEGIN:VCALENDAR
VERSION:2.0
PRODID:-//Death Magnetic - ECPv5.10.1//NONSGML v1.0//EN
CALSCALE:GREGORIAN
METHOD:PUBLISH
X-WR-CALNAME:Death Magnetic
X-ORIGINAL-URL:https://deathmagnetic.pl
X-WR-CALDESC:Events for Death Magnetic
BEGIN:VTIMEZONE
TZID:Europe/Warsaw
BEGIN:DAYLIGHT
TZOFFSETFROM:+0100
TZOFFSETTO:+0200
TZNAME:CEST
DTSTART:20160327T010000
END:DAYLIGHT
BEGIN:STANDARD
TZOFFSETFROM:+0200
TZOFFSETTO:+0100
TZNAME:CET
DTSTART:20161030T010000
END:STANDARD
END:VTIMEZONE
BEGIN:VEVENT
DTSTART;VALUE=DATE:20161121
DTEND;VALUE=DATE:20161122
DTSTAMP:20260421T052746
CREATED:20160706T091617Z
LAST-MODIFIED:20170519T092737Z
UID:103021-1479686400-1479772799@deathmagnetic.pl
SUMMARY:Killing Joke
DESCRIPTION:Zagrają:\nKILLING JOKE (Wielka Brytania) post punk\, new wave\, industrial rock \nKiedy: 21 listopada (poniedziałek) 2016\nGdzie: Kraków @ Kwadrat\, ul. Skarżyńskiego 1\nBilety: 90 zł – przedsprzedaż\, 100 zł – w dniu koncertu\nOrganizator: Knock Out Productions oraz Core-Poration \nBilety dostępne od piątku\, 08.07 na www.knockoutprod.net/sklep (druki kolekcjonerskie)
URL:https://deathmagnetic.pl/wydarzenie/killing-joke/
LOCATION:Klub Kwadrat\, Stanisława Skarżyńskiego 1\, Kraków\, 31 - 866\, Polska
CATEGORIES:Koncerty,zagraniczne
ORGANIZER;CN="KnockOut%20Productions":MAILTO:info@knockoutprod.net
GEO:50.083983;19.9961079
X-APPLE-STRUCTURED-LOCATION;VALUE=URI;X-ADDRESS=Klub Kwadrat Stanisława Skarżyńskiego 1 Kraków 31 - 866 Polska;X-APPLE-RADIUS=500;X-TITLE=Stanisława Skarżyńskiego 1:geo:19.9961079,50.083983
END:VEVENT
END:VCALENDAR