BEGIN:VCALENDAR
VERSION:2.0
PRODID:-//Death Magnetic - ECPv5.10.1//NONSGML v1.0//EN
CALSCALE:GREGORIAN
METHOD:PUBLISH
X-WR-CALNAME:Death Magnetic
X-ORIGINAL-URL:https://deathmagnetic.pl
X-WR-CALDESC:Events for Death Magnetic
BEGIN:VTIMEZONE
TZID:Europe/Warsaw
BEGIN:DAYLIGHT
TZOFFSETFROM:+0100
TZOFFSETTO:+0200
TZNAME:CEST
DTSTART:20160327T010000
END:DAYLIGHT
BEGIN:STANDARD
TZOFFSETFROM:+0200
TZOFFSETTO:+0100
TZNAME:CET
DTSTART:20161030T010000
END:STANDARD
END:VTIMEZONE
BEGIN:VEVENT
DTSTART;TZID=Europe/Warsaw:20160121T183000
DTEND;TZID=Europe/Warsaw:20160121T230000
DTSTAMP:20260420T023734
CREATED:20150921T183002Z
LAST-MODIFIED:20151215T210524Z
UID:92216-1453401000-1453417200@deathmagnetic.pl
SUMMARY:Kataklysm + Septicflesh + Aborted
DESCRIPTION:Ceny biletów: \n80 zł – przedsprzedaż\n90 zł – w dniu koncertu \nBilety kolekcjonerskie dostępne na stronie Knock Out Production\,\nBilety systemowe na TicketPro\, E-Bilet\, Eventim i Biletomat \noraz \nw Sklepie Metal Shop\, Długa 17a\ni Antycafe\, ul. Sławkowska 12
URL:https://deathmagnetic.pl/wydarzenie/kataklysm-septicflesh-aborted-2/
LOCATION:Klub Kwadrat\, Stanisława Skarżyńskiego 1\, Kraków\, 31 - 866\, Polska
CATEGORIES:Koncerty,zagraniczne
ATTACH;FMTTYPE=image/jpeg:https://deathmagnetic.pl/wp-content/uploads/2015/09/Kataklysm-Septicflesh-Aborted.jpg
ORGANIZER;CN="KnockOut%20Productions":MAILTO:info@knockoutprod.net
GEO:50.083983;19.9961079
X-APPLE-STRUCTURED-LOCATION;VALUE=URI;X-ADDRESS=Klub Kwadrat Stanisława Skarżyńskiego 1 Kraków 31 - 866 Polska;X-APPLE-RADIUS=500;X-TITLE=Stanisława Skarżyńskiego 1:geo:19.9961079,50.083983
END:VEVENT
END:VCALENDAR