BEGIN:VCALENDAR
VERSION:2.0
PRODID:-//Death Magnetic - ECPv5.10.1//NONSGML v1.0//EN
CALSCALE:GREGORIAN
METHOD:PUBLISH
X-WR-CALNAME:Death Magnetic
X-ORIGINAL-URL:https://deathmagnetic.pl
X-WR-CALDESC:Events for Death Magnetic
BEGIN:VTIMEZONE
TZID:Europe/Warsaw
BEGIN:DAYLIGHT
TZOFFSETFROM:+0100
TZOFFSETTO:+0200
TZNAME:CEST
DTSTART:20180325T010000
END:DAYLIGHT
BEGIN:STANDARD
TZOFFSETFROM:+0200
TZOFFSETTO:+0100
TZNAME:CET
DTSTART:20181028T010000
END:STANDARD
END:VTIMEZONE
BEGIN:VEVENT
DTSTART;TZID=Europe/Warsaw:20181026T180000
DTEND;TZID=Europe/Warsaw:20181026T230000
DTSTAMP:20260421T135622
CREATED:20181020T094345Z
LAST-MODIFIED:20181020T094345Z
UID:159345-1540576800-1540594800@deathmagnetic.pl
SUMMARY:KAT & Roman Kostrzewski + Jack Crusher + Dragon
DESCRIPTION:26.10.2018\nRzeszów/ Pod Palmą\nGodzina: 18.00 – 23.00\nPrzedsprzedaż biletów: 45zł\nW dniu koncertu: 55zł
URL:https://deathmagnetic.pl/wydarzenie/kat-roman-kostrzewski-jack-crusher-dragon/
LOCATION:Klub Pod Palmą\, Cicha 4a\, Rzeszów\, 35-326 \, Polska
CATEGORIES:Koncerty,Polskie
ATTACH;FMTTYPE=image/png:https://deathmagnetic.pl/wp-content/uploads/2018/10/KAT-Trasa.png
GEO:50.0165219;22.004782
X-APPLE-STRUCTURED-LOCATION;VALUE=URI;X-ADDRESS=Klub Pod Palmą Cicha 4a Rzeszów 35-326  Polska;X-APPLE-RADIUS=500;X-TITLE=Cicha 4a:geo:22.004782,50.0165219
END:VEVENT
END:VCALENDAR