BEGIN:VCALENDAR
VERSION:2.0
PRODID:-//Death Magnetic - ECPv5.10.1//NONSGML v1.0//EN
CALSCALE:GREGORIAN
METHOD:PUBLISH
X-WR-CALNAME:Death Magnetic
X-ORIGINAL-URL:https://deathmagnetic.pl
X-WR-CALDESC:Events for Death Magnetic
BEGIN:VTIMEZONE
TZID:Europe/Warsaw
BEGIN:DAYLIGHT
TZOFFSETFROM:+0100
TZOFFSETTO:+0200
TZNAME:CEST
DTSTART:20180325T010000
END:DAYLIGHT
BEGIN:STANDARD
TZOFFSETFROM:+0200
TZOFFSETTO:+0100
TZNAME:CET
DTSTART:20181028T010000
END:STANDARD
END:VTIMEZONE
BEGIN:VEVENT
DTSTART;TZID=Europe/Warsaw:20181021T180000
DTEND;TZID=Europe/Warsaw:20181021T230000
DTSTAMP:20260421T135633
CREATED:20181020T093838Z
LAST-MODIFIED:20181020T093838Z
UID:159344-1540144800-1540162800@deathmagnetic.pl
SUMMARY:KAT & Roman Kostrzewski + Funeral Cult + Post Profession
DESCRIPTION:21.10.2018\nŁódź/Magnetofon\nGodzina: 18.00 – 23.00\nPrzedsprzedaż biletów: 45zł\nW dniu koncertu: 55zł
URL:https://deathmagnetic.pl/wydarzenie/kat-roman-kostrzewski-funeral-cult-post-profession/
LOCATION:Magnetofon\, Zgierska 26A\, Łódź\, mazowieckie\, Polska
CATEGORIES:Koncerty,Polskie
ATTACH;FMTTYPE=image/png:https://deathmagnetic.pl/wp-content/uploads/2018/10/KAT-Trasa.png
GEO:51.764732;19.441154
X-APPLE-STRUCTURED-LOCATION;VALUE=URI;X-ADDRESS=Magnetofon Zgierska 26A Łódź mazowieckie Polska;X-APPLE-RADIUS=500;X-TITLE=Zgierska 26A:geo:19.441154,51.764732
END:VEVENT
END:VCALENDAR