BEGIN:VCALENDAR
VERSION:2.0
PRODID:-//Death Magnetic - ECPv5.10.1//NONSGML v1.0//EN
CALSCALE:GREGORIAN
METHOD:PUBLISH
X-WR-CALNAME:Death Magnetic
X-ORIGINAL-URL:https://deathmagnetic.pl
X-WR-CALDESC:Events for Death Magnetic
BEGIN:VTIMEZONE
TZID:Europe/Warsaw
BEGIN:DAYLIGHT
TZOFFSETFROM:+0100
TZOFFSETTO:+0200
TZNAME:CEST
DTSTART:20180325T010000
END:DAYLIGHT
BEGIN:STANDARD
TZOFFSETFROM:+0200
TZOFFSETTO:+0100
TZNAME:CET
DTSTART:20181028T010000
END:STANDARD
END:VTIMEZONE
BEGIN:VEVENT
DTSTART;TZID=Europe/Warsaw:20180310T200000
DTEND;TZID=Europe/Warsaw:20180310T230000
DTSTAMP:20260421T040828
CREATED:20180223T173130Z
LAST-MODIFIED:20180223T173130Z
UID:155433-1520712000-1520722800@deathmagnetic.pl
SUMMARY:Kat & Roman Kostrzewski + Dragon + Sekator
DESCRIPTION:Wejściówki:\nPrzedsprzedaż – 45 PLN\nW dniu koncertu – 55 PLN \nKat wraz z Romanem Kostrzewskim to historia rodzimego black i thrash metalu! Kultowy zespół tworzący Wielką Trójcę Polskiego Metalu włącznie z TSA i Turbo\, powstał w 1980 roku\, a w ciągu całej kariery grywał z takimi tuzami światowych brzmień jak Metallica\, Iron Maiden\, czy Motörhead. Zespół jest teraz skoncentrowany na pracy nad nowym materiałem\, ale zanim ujrzy on światło dzienne\, kapela będzie gościć w wielu polskich miastach. \nSkład kapeli:\nRoman Kostrzewski – wokal\nIreneusz Loth – perkusja\nJacek Hiro – gitara\nKrzysztof Pistelok – gitara\nMichał Laksa – bas
URL:https://deathmagnetic.pl/wydarzenie/kat-roman-kostrzewski-dragon-sekator/
LOCATION:Klub muzyczny Bogart\, Fabryczna 13 \, Gomucice\, łódzkie\, 97-545\, Polska
CATEGORIES:Koncerty,patronaty,Polskie
ATTACH;FMTTYPE=image/png:https://deathmagnetic.pl/wp-content/uploads/2018/02/KatRK2.png
GEO:51.1746179;19.4852663
X-APPLE-STRUCTURED-LOCATION;VALUE=URI;X-ADDRESS=Klub muzyczny Bogart Fabryczna 13  Gomucice łódzkie 97-545 Polska;X-APPLE-RADIUS=500;X-TITLE=Fabryczna 13:geo:19.4852663,51.1746179
END:VEVENT
END:VCALENDAR