BEGIN:VCALENDAR
VERSION:2.0
PRODID:-//Death Magnetic - ECPv5.10.1//NONSGML v1.0//EN
CALSCALE:GREGORIAN
METHOD:PUBLISH
X-WR-CALNAME:Death Magnetic
X-ORIGINAL-URL:https://deathmagnetic.pl
X-WR-CALDESC:Events for Death Magnetic
BEGIN:VTIMEZONE
TZID:Europe/Warsaw
BEGIN:DAYLIGHT
TZOFFSETFROM:+0100
TZOFFSETTO:+0200
TZNAME:CEST
DTSTART:20170326T010000
END:DAYLIGHT
BEGIN:STANDARD
TZOFFSETFROM:+0200
TZOFFSETTO:+0100
TZNAME:CET
DTSTART:20171029T010000
END:STANDARD
END:VTIMEZONE
BEGIN:VEVENT
DTSTART;TZID=Europe/Warsaw:20170319T190000
DTEND;TZID=Europe/Warsaw:20170319T230000
DTSTAMP:20260421T124043
CREATED:20170213T102128Z
LAST-MODIFIED:20170213T102128Z
UID:111664-1489950000-1489964400@deathmagnetic.pl
SUMMARY:Kat & Roman Kostrzewski + Dormant Dissident
DESCRIPTION:Bilety:\nPrzedsprzedaż – 40 PLN\nOnline – 45 PLN\nRezerwacje – 45 PLN\nW dniu koncertu – 50 PLN \nKat i Roman Kostrzewski to historia black\, thrash metalu. Kultowy zespół tworzący Wielką Trójcę Polskiego Metalu łącznie z TSA i Turbo\, powstał w 1980. Teraz skoncentrowany jest nad materiałem na nową płytę ale będzie gościł w wielu miastach w Polsce\, prezentując również utwory z najnowszego krążka. \nPunkty sprzedaży biletów w Zielonej Górze:\n– bileteria Muz-Art\, Zielona Góra\, Aleja Niepodległości 12 (w godz. 10.00-18.00)
URL:https://deathmagnetic.pl/wydarzenie/kat-roman-kostrzewski-dormant-dissident/
LOCATION:Wyspa\, Wojska Polskiego 65\, Zielona Góra\, Polska
CATEGORIES:Koncerty,patronaty,Polskie
ATTACH;FMTTYPE=image/jpeg:https://deathmagnetic.pl/wp-content/uploads/2017/02/kat_trasa.jpg
GEO:51.9356214;15.5061862
X-APPLE-STRUCTURED-LOCATION;VALUE=URI;X-ADDRESS=Wyspa Wojska Polskiego 65 Zielona Góra Polska;X-APPLE-RADIUS=500;X-TITLE=Wojska Polskiego 65:geo:15.5061862,51.9356214
END:VEVENT
END:VCALENDAR