BEGIN:VCALENDAR
VERSION:2.0
PRODID:-//Death Magnetic - ECPv5.10.1//NONSGML v1.0//EN
CALSCALE:GREGORIAN
METHOD:PUBLISH
X-WR-CALNAME:Death Magnetic
X-ORIGINAL-URL:https://deathmagnetic.pl
X-WR-CALDESC:Events for Death Magnetic
BEGIN:VTIMEZONE
TZID:Europe/Warsaw
BEGIN:DAYLIGHT
TZOFFSETFROM:+0100
TZOFFSETTO:+0200
TZNAME:CEST
DTSTART:20180325T010000
END:DAYLIGHT
BEGIN:STANDARD
TZOFFSETFROM:+0200
TZOFFSETTO:+0100
TZNAME:CET
DTSTART:20181028T010000
END:STANDARD
END:VTIMEZONE
BEGIN:VEVENT
DTSTART;TZID=Europe/Warsaw:20180223T200000
DTEND;TZID=Europe/Warsaw:20180223T230000
DTSTAMP:20260421T075059
CREATED:20180223T172000Z
LAST-MODIFIED:20180223T172000Z
UID:155429-1519416000-1519426800@deathmagnetic.pl
SUMMARY:Kat & Roman Kostrzewski + Black Velvet Band + Hoax Of Upsala
DESCRIPTION:Wejściówki:\nPrzedsprzedaż – 45 PLN\nW dniu koncertu – 55 PLN \nKat wraz z Romanem Kostrzewskim to historia rodzimego black i thrash metalu! Kultowy zespół tworzący Wielką Trójcę Polskiego Metalu włącznie z TSA i Turbo\, powstał w 1980 roku\, a w ciągu całej kariery grywał z takimi tuzami światowych brzmień jak Metallica\, Iron Maiden\, czy Motörhead. Zespół jest teraz skoncentrowany na pracy nad nowym materiałem\, ale zanim ujrzy on światło dzienne\, kapela będzie gościć w wielu polskich miastach. \nSkład kapeli:\nRoman Kostrzewski – wokal\nIreneusz Loth – perkusja\nJacek Hiro – gitara\nKrzysztof Pistelok – gitara\nMichał Laksa – bas
URL:https://deathmagnetic.pl/wydarzenie/kat-roman-kostrzewski-black-velvet-band-hoax-of-upsala/
LOCATION:Club Graffiti\, ul. Piłsudskiego 13\, Lublin\, 20-001\, Polska
CATEGORIES:Koncerty,patronaty,Polskie
ATTACH;FMTTYPE=image/png:https://deathmagnetic.pl/wp-content/uploads/2018/02/KatRK2.png
ORGANIZER;CN="Ragnarock%20Promotion":MAILTO:mpd.lublin@gmail.com
GEO:51.2402957;22.5571225
X-APPLE-STRUCTURED-LOCATION;VALUE=URI;X-ADDRESS=Club Graffiti ul. Piłsudskiego 13 Lublin 20-001 Polska;X-APPLE-RADIUS=500;X-TITLE=ul. Piłsudskiego 13:geo:22.5571225,51.2402957
END:VEVENT
END:VCALENDAR