BEGIN:VCALENDAR
VERSION:2.0
PRODID:-//Death Magnetic - ECPv5.10.1//NONSGML v1.0//EN
CALSCALE:GREGORIAN
METHOD:PUBLISH
X-WR-CALNAME:Death Magnetic
X-ORIGINAL-URL:https://deathmagnetic.pl
X-WR-CALDESC:Events for Death Magnetic
BEGIN:VTIMEZONE
TZID:Europe/Warsaw
BEGIN:DAYLIGHT
TZOFFSETFROM:+0100
TZOFFSETTO:+0200
TZNAME:CEST
DTSTART:20170326T010000
END:DAYLIGHT
BEGIN:STANDARD
TZOFFSETFROM:+0200
TZOFFSETTO:+0100
TZNAME:CET
DTSTART:20171029T010000
END:STANDARD
END:VTIMEZONE
BEGIN:VEVENT
DTSTART;TZID=Europe/Warsaw:20170317T200000
DTEND;TZID=Europe/Warsaw:20170317T230000
DTSTAMP:20260420T172313
CREATED:20170213T100823Z
LAST-MODIFIED:20170213T100823Z
UID:111661-1489780800-1489791600@deathmagnetic.pl
SUMMARY:Kat & Roman Kostrzewski + Airstrike
DESCRIPTION:Kat i Roman Kostrzewski to historia black\, thrash metalu. Kultowy zespół tworzący Wielką Trójcę Polskiego Metalu łącznie z TSA i Turbo\, powstał w 1980. Teraz skoncentrowany jest nad materiałem na nową płytę ale będzie gościł w wielu miastach w Polsce\, prezentując również utwory z najnowszego krążka. \nInformacje na temat ceny i miejsca sprzedaży wejściówek pojawią się już wkrótce!
URL:https://deathmagnetic.pl/wydarzenie/kat-roman-kostrzewski-airstrike/
LOCATION:Klub Spiżarnia\, Piastowska 1\, Legnica\, Polska
CATEGORIES:Koncerty,patronaty,Polskie
ATTACH;FMTTYPE=image/jpeg:https://deathmagnetic.pl/wp-content/uploads/2017/02/kat_trasa.jpg
GEO:51.2077715;16.1550662
X-APPLE-STRUCTURED-LOCATION;VALUE=URI;X-ADDRESS=Klub Spiżarnia Piastowska 1 Legnica Polska;X-APPLE-RADIUS=500;X-TITLE=Piastowska 1:geo:16.1550662,51.2077715
END:VEVENT
END:VCALENDAR