BEGIN:VCALENDAR
VERSION:2.0
PRODID:-//Death Magnetic - ECPv5.10.1//NONSGML v1.0//EN
CALSCALE:GREGORIAN
METHOD:PUBLISH
X-WR-CALNAME:Death Magnetic
X-ORIGINAL-URL:https://deathmagnetic.pl
X-WR-CALDESC:Events for Death Magnetic
BEGIN:VTIMEZONE
TZID:Europe/Warsaw
BEGIN:DAYLIGHT
TZOFFSETFROM:+0100
TZOFFSETTO:+0200
TZNAME:CEST
DTSTART:20150329T010000
END:DAYLIGHT
BEGIN:STANDARD
TZOFFSETFROM:+0200
TZOFFSETTO:+0100
TZNAME:CET
DTSTART:20151025T010000
END:STANDARD
END:VTIMEZONE
BEGIN:VEVENT
DTSTART;TZID=Europe/Warsaw:20150508T190000
DTEND;TZID=Europe/Warsaw:20150508T230000
DTSTAMP:20260421T111436
CREATED:20150406T111848Z
LAST-MODIFIED:20150406T111848Z
UID:79628-1431111600-1431126000@deathmagnetic.pl
SUMMARY:Kat & Roman Kostrzewski
DESCRIPTION:Ceny biletów (przedsprzedaż / w dniu koncertu): \n40 zł / 50 zł \nBilety dostępna na: \nSklep HIP HOP Mielec ul. Wąska 7 lub klub STUDIO uL. PUŁASKIEGO 2A \n 
URL:https://deathmagnetic.pl/wydarzenie/kat-roman-kostrzewski-6/
LOCATION:Studio Mielec\, Pułaskiego 2A\, Mielec\, Polska
CATEGORIES:Koncerty,Polskie
ATTACH;FMTTYPE=image/jpeg:https://deathmagnetic.pl/wp-content/uploads/2015/04/Kat3.jpg
GEO:50.2920499;21.435382
X-APPLE-STRUCTURED-LOCATION;VALUE=URI;X-ADDRESS=Studio Mielec Pułaskiego 2A Mielec Polska;X-APPLE-RADIUS=500;X-TITLE=Pułaskiego 2A:geo:21.435382,50.2920499
END:VEVENT
END:VCALENDAR