BEGIN:VCALENDAR
VERSION:2.0
PRODID:-//Death Magnetic - ECPv5.10.1//NONSGML v1.0//EN
CALSCALE:GREGORIAN
METHOD:PUBLISH
X-WR-CALNAME:Death Magnetic
X-ORIGINAL-URL:https://deathmagnetic.pl
X-WR-CALDESC:Events for Death Magnetic
BEGIN:VTIMEZONE
TZID:Europe/Warsaw
BEGIN:DAYLIGHT
TZOFFSETFROM:+0100
TZOFFSETTO:+0200
TZNAME:CEST
DTSTART:20170326T010000
END:DAYLIGHT
BEGIN:STANDARD
TZOFFSETFROM:+0200
TZOFFSETTO:+0100
TZNAME:CET
DTSTART:20171029T010000
END:STANDARD
END:VTIMEZONE
BEGIN:VEVENT
DTSTART;TZID=Europe/Warsaw:20170225T200000
DTEND;TZID=Europe/Warsaw:20170225T230000
DTSTAMP:20260421T092156
CREATED:20170213T093056Z
LAST-MODIFIED:20170213T093056Z
UID:111653-1488052800-1488063600@deathmagnetic.pl
SUMMARY:Kat & Roman Kostrzewski
DESCRIPTION:Bilety:\nPrzedsprzedaż – 38 PLN\nW dniu koncertu – 48 PLN \nKat i Roman Kostrzewski to historia black\, thrash metalu. Kultowy zespół tworzący Wielką Trójcę Polskiego Metalu łącznie z TSA i Turbo\, powstał w 1980. Teraz skoncentrowany jest nad materiałem na nową płytę ale będzie gościł w wielu miastach w Polsce\, prezentując również utwory z najnowszego krążka. \nPunkty sprzedaży biletów w Lublinie:\n– Restauracja McKenzee\, ul. Kopernika 8
URL:https://deathmagnetic.pl/wydarzenie/kat-roman-kostrzewski-14/
LOCATION:Klub Atmosfera\, ul. Kopernika 8\, Chełm\, 22-100 \, Polska
CATEGORIES:Koncerty,patronaty,Polskie
ATTACH;FMTTYPE=image/jpeg:https://deathmagnetic.pl/wp-content/uploads/2017/02/kat_trasa.jpg
GEO:51.1333319;23.4737965
X-APPLE-STRUCTURED-LOCATION;VALUE=URI;X-ADDRESS=Klub Atmosfera ul. Kopernika 8 Chełm 22-100  Polska;X-APPLE-RADIUS=500;X-TITLE=ul. Kopernika 8:geo:23.4737965,51.1333319
END:VEVENT
END:VCALENDAR