BEGIN:VCALENDAR
VERSION:2.0
PRODID:-//Death Magnetic - ECPv5.10.1//NONSGML v1.0//EN
CALSCALE:GREGORIAN
METHOD:PUBLISH
X-WR-CALNAME:Death Magnetic
X-ORIGINAL-URL:https://deathmagnetic.pl
X-WR-CALDESC:Events for Death Magnetic
BEGIN:VTIMEZONE
TZID:Europe/Warsaw
BEGIN:DAYLIGHT
TZOFFSETFROM:+0100
TZOFFSETTO:+0200
TZNAME:CEST
DTSTART:20150329T010000
END:DAYLIGHT
BEGIN:STANDARD
TZOFFSETFROM:+0200
TZOFFSETTO:+0100
TZNAME:CET
DTSTART:20151025T010000
END:STANDARD
END:VTIMEZONE
BEGIN:VEVENT
DTSTART;TZID=Europe/Warsaw:20151006T180000
DTEND;TZID=Europe/Warsaw:20151006T230000
DTSTAMP:20260421T052717
CREATED:20150223T193629Z
LAST-MODIFIED:20150226T184253Z
UID:73878-1444154400-1444172400@deathmagnetic.pl
SUMMARY:Kamelot + support
DESCRIPTION:Ceny biletów (przedsprzedaż / w dniu koncertu): \n89 zł / 99 zł \nBilety dostępne na: \nProgresja\, Eventim\, Ebilet oraz w salonach Empik. \nBramki: 18:00 \nStart: 19:00
URL:https://deathmagnetic.pl/wydarzenie/kamelot-support/
LOCATION:Progresja\, Fort Wola 22\, Warszawa\, Polska
CATEGORIES:Koncerty,zagraniczne
ATTACH;FMTTYPE=image/jpeg:https://deathmagnetic.pl/wp-content/uploads/2015/02/Kamelot.jpg
GEO:52.224827;20.9287
X-APPLE-STRUCTURED-LOCATION;VALUE=URI;X-ADDRESS=Progresja Fort Wola 22 Warszawa Polska;X-APPLE-RADIUS=500;X-TITLE=Fort Wola 22:geo:20.9287,52.224827
END:VEVENT
END:VCALENDAR